BEGIN:VCALENDAR
VERSION:2.0
PRODID:-//Natur- &amp; Geopark Mëllerdall - ECPv5.5.0//NONSGML v1.0//EN
CALSCALE:GREGORIAN
METHOD:PUBLISH
X-WR-CALNAME:Natur- &amp; Geopark Mëllerdall
X-ORIGINAL-URL:https://www.naturpark-mellerdall.lu/en/
X-WR-CALDESC:Events for Natur- &amp; Geopark Mëllerdall
BEGIN:VTIMEZONE
TZID:Europe/Luxembourg
BEGIN:DAYLIGHT
TZOFFSETFROM:+0100
TZOFFSETTO:+0200
TZNAME:CEST
DTSTART:20200329T010000
END:DAYLIGHT
BEGIN:STANDARD
TZOFFSETFROM:+0200
TZOFFSETTO:+0100
TZNAME:CET
DTSTART:20201025T010000
END:STANDARD
END:VTIMEZONE
BEGIN:VEVENT
DTSTART;TZID=Europe/Luxembourg:20200815T090000
DTEND;TZID=Europe/Luxembourg:20200822T120000
DTSTAMP:20210426T183332
CREATED:20200708T072414Z
LAST-MODIFIED:20200720T132024Z
UID:6927-1597482000-1598097600@www.naturpark-mellerdall.lu
SUMMARY:Action: Himalayan balsam
DESCRIPTION:The Himalayan balsam (Impatiens glandulifera) comes from the Himalayas and was planted in Europe by beekeepers and hobby gardeners at the end of the 19th century because of its beautiful flowers. The plant is extremely competitive\, which means that it replaces native species – and it is spreading rapidly along our waters! \nIf you want to help stop the spreading of the Himalayan balsam\, then register for one of our actions\, participation is free! \nRegistrations at info@naturpark-mellerdall.lu or +352 26 87 82 91. \nBecause of the corona pandemic\, we kindly ask you to bring your own gloves and mask! \nThis project is a cooperation with the nature park Our and the ANF.
URL:https://www.naturpark-mellerdall.lu/en/event/aktiontage-druesiges-springkraut/2020-08-15/
ATTACH;FMTTYPE=image/jpeg:https://www.naturpark-mellerdall.lu/wp-content/uploads/2020/07/RS1633_2019ChantierSPrangkrautcNGPMElinaZepp-37-scr.jpg
ORGANIZER;CN="Natur-%20%26%20Geopark%20M%C3%ABllerdall":MAILTO:info@naturpark-mellerdall.lu
END:VEVENT
END:VCALENDAR