BEGIN:VCALENDAR
VERSION:2.0
PRODID:-//Natur- &amp; Geopark Mëllerdall - ECPv5.5.0//NONSGML v1.0//EN
CALSCALE:GREGORIAN
METHOD:PUBLISH
X-WR-CALNAME:Natur- &amp; Geopark Mëllerdall
X-ORIGINAL-URL:https://www.naturpark-mellerdall.lu/en/
X-WR-CALDESC:Events for Natur- &amp; Geopark Mëllerdall
BEGIN:VTIMEZONE
TZID:Europe/Luxembourg
BEGIN:DAYLIGHT
TZOFFSETFROM:+0100
TZOFFSETTO:+0200
TZNAME:CEST
DTSTART:20210328T010000
END:DAYLIGHT
BEGIN:STANDARD
TZOFFSETFROM:+0200
TZOFFSETTO:+0100
TZNAME:CET
DTSTART:20211031T010000
END:STANDARD
END:VTIMEZONE
BEGIN:VEVENT
DTSTART;TZID=Europe/Luxembourg:20210320T133000
DTEND;TZID=Europe/Luxembourg:20210320T170000
DTSTAMP:20210423T182144
CREATED:20200929T072804Z
LAST-MODIFIED:20210118T095826Z
UID:7654-1616247000-1616259600@www.naturpark-mellerdall.lu
SUMMARY:FULLY BOOKED! Pruning fruit trees: old trees
DESCRIPTION:In order for your fruit trees to stay healthy and continue to produce plenty of good fruit\, they have to be pruned regularly. Marc Thiel from SIAS shows you how to do this correctly in this course. \n20.3. \n13:30-17:00 \nHeffingen \n5 € \nPlease register at: info@naturpark-mellerdall.lu or 26 87 82 91 \nOur workshop on how to prune espalier trees could be interesting to you as well!
URL:https://www.naturpark-mellerdall.lu/en/event/obstbaumschnitt-alte-baeume-2/
LOCATION:Heffingen\, Heffingen\, Luxemburg
CATEGORIES:Kultur,Natur,Region
ATTACH;FMTTYPE=image/jpeg:https://www.naturpark-mellerdall.lu/wp-content/uploads/2020/09/Obstbaum-DetailcNGPM_AnnaVoelske-3-scaled.jpg
ORGANIZER;CN="Natur-%20%26%20Geopark%20M%C3%ABllerdall":MAILTO:info@naturpark-mellerdall.lu
END:VEVENT
END:VCALENDAR