BEGIN:VCALENDAR
VERSION:2.0
PRODID:-//Natur- &amp; Geopark Mëllerdall - ECPv5.9.0//NONSGML v1.0//EN
CALSCALE:GREGORIAN
METHOD:PUBLISH
X-WR-CALNAME:Natur- &amp; Geopark Mëllerdall
X-ORIGINAL-URL:https://www.naturpark-mellerdall.lu/en/
X-WR-CALDESC:Events for Natur- &amp; Geopark Mëllerdall
BEGIN:VTIMEZONE
TZID:Europe/Luxembourg
BEGIN:DAYLIGHT
TZOFFSETFROM:+0100
TZOFFSETTO:+0200
TZNAME:CEST
DTSTART:20220327T010000
END:DAYLIGHT
BEGIN:STANDARD
TZOFFSETFROM:+0200
TZOFFSETTO:+0100
TZNAME:CET
DTSTART:20221030T010000
END:STANDARD
END:VTIMEZONE
BEGIN:VEVENT
DTSTART;TZID=Europe/Luxembourg:20220225T190000
DTEND;TZID=Europe/Luxembourg:20220225T190000
DTSTAMP:20211009T163622
CREATED:20210929T093709Z
LAST-MODIFIED:20210929T101152Z
UID:13745-1645815600-1645815600@www.naturpark-mellerdall.lu
SUMMARY:Grafting fruit trees
DESCRIPTION:Copy-paste in the orchard? That is totally possible! In this course\, Wolfgang Schmitz from the tree nursery shows you how to properly graft a fruit tree. After the course\, you can take your self-grafted tree home with you! \n12 years or older \nBring: grafting knife (if you have one) \n25.2. \n19:00-22:00 \nBerdorf \n20 € \nPlease register at: info@naturpark-mellerdall.lu or 26 87 82 91 \nYou might be interested in these workshops as well: \nPruning fruit trees: young trees (LU) \nPruning fruit trees: young trees (FR) \nPruning fruit trees: old trees \nPruning fruit trees: espalier trees
URL:https://www.naturpark-mellerdall.lu/en/event/obstbaumveredelung/
LOCATION:Berdorf\, Berdorf\, Luxemburg
CATEGORIES:Kultur,Natur,Region
ATTACH;FMTTYPE=image/jpeg:https://www.naturpark-mellerdall.lu/wp-content/uploads/2018/10/c-NPM-Praffcours-2.jpg
END:VEVENT
END:VCALENDAR