BEGIN:VCALENDAR
VERSION:2.0
PRODID:-//Natur- &amp; Geopark Mëllerdall - ECPv5.5.0//NONSGML v1.0//EN
CALSCALE:GREGORIAN
METHOD:PUBLISH
X-WR-CALNAME:Natur- &amp; Geopark Mëllerdall
X-ORIGINAL-URL:https://www.naturpark-mellerdall.lu/en/
X-WR-CALDESC:Events for Natur- &amp; Geopark Mëllerdall
BEGIN:VTIMEZONE
TZID:Europe/Luxembourg
BEGIN:DAYLIGHT
TZOFFSETFROM:+0100
TZOFFSETTO:+0200
TZNAME:CEST
DTSTART:20200329T010000
END:DAYLIGHT
BEGIN:STANDARD
TZOFFSETFROM:+0200
TZOFFSETTO:+0100
TZNAME:CET
DTSTART:20201025T010000
END:STANDARD
END:VTIMEZONE
BEGIN:VEVENT
DTSTART;TZID=Europe/Luxembourg:20200920T140000
DTEND;TZID=Europe/Luxembourg:20200920T173000
DTSTAMP:20210425T141052
CREATED:20200825T133756Z
LAST-MODIFIED:20200825T134822Z
UID:7104-1600610400-1600623000@www.naturpark-mellerdall.lu
SUMMARY:Geosite day
DESCRIPTION:Together with our geographer Dr. Birgit Kausch\, you can discover the Huel Lee in Berdorf\, our geosite of the year 2020\, on a beautiful hike through the forest. \nThe hike goes from 2:00 p.m. to 5:30 p.m. and is for free. Please bring sturdy shoes. \nPlease register at 26 87 82 91 or info@naturpark-mellerdall.lu.
URL:https://www.naturpark-mellerdall.lu/en/event/tag-des-geotops-2/
LOCATION:Berdorf\, Berdorf\, Luxemburg
CATEGORIES:Kultur,Natur,Region
ATTACH;FMTTYPE=image/jpeg:https://www.naturpark-mellerdall.lu/wp-content/uploads/2018/04/Pierre-HAAS-©-BÄ-13_HAB2525.jpg
ORGANIZER;CN="Natur-%20%26%20Geopark%20M%C3%ABllerdall":MAILTO:info@naturpark-mellerdall.lu
END:VEVENT
END:VCALENDAR