BEGIN:VCALENDAR
VERSION:2.0
PRODID:-//Natur- &amp; Geopark Mëllerdall - ECPv5.5.0//NONSGML v1.0//EN
CALSCALE:GREGORIAN
METHOD:PUBLISH
X-WR-CALNAME:Natur- &amp; Geopark Mëllerdall
X-ORIGINAL-URL:https://www.naturpark-mellerdall.lu/en/
X-WR-CALDESC:Events for Natur- &amp; Geopark Mëllerdall
BEGIN:VTIMEZONE
TZID:Europe/Luxembourg
BEGIN:DAYLIGHT
TZOFFSETFROM:+0100
TZOFFSETTO:+0200
TZNAME:CEST
DTSTART:20200329T010000
END:DAYLIGHT
BEGIN:STANDARD
TZOFFSETFROM:+0200
TZOFFSETTO:+0100
TZNAME:CET
DTSTART:20201025T010000
END:STANDARD
END:VTIMEZONE
BEGIN:VEVENT
DTSTART;TZID=Europe/Luxembourg:20200919T100000
DTEND;TZID=Europe/Luxembourg:20200920T180000
DTSTAMP:20210426T183449
CREATED:20200914T131455Z
LAST-MODIFIED:20200914T131948Z
UID:7294-1600509600-1600624800@www.naturpark-mellerdall.lu
SUMMARY:Plum festival
DESCRIPTION:For several years now\, the plum festival (“Quetschefest”) has been organised in Cruchten by the Amicale Pompjeeën from the municipality of Nommern. Despite the COVID-19 circumstances\, the festival will take place this year\, but in a different form than usual. \nTo comply with the hygiene measures\, the festival will be spread over two weekends and will take place on a smaller scale than usual. Only the “Quetschekraut”\, freshly cooked on site\, will be sold\, as well as some other plum products. The sale is held on 12 & 13 September and on 19 & 20 September between 10:00 and 18:00 in front of the fire station in Cruchten.
URL:https://www.naturpark-mellerdall.lu/en/event/zwetschgenfest/
LOCATION:Cruchten\, Cruchten\, Luxemburg
CATEGORIES:Kultur,Region
ATTACH;FMTTYPE=image/jpeg:https://www.naturpark-mellerdall.lu/wp-content/uploads/2020/09/Quetschefest_Cruchten_Logo.jpg
END:VEVENT
END:VCALENDAR