BEGIN:VCALENDAR
VERSION:2.0
PRODID:-//Natur- &amp; Geopark Mëllerdall - ECPv5.5.0//NONSGML v1.0//EN
CALSCALE:GREGORIAN
METHOD:PUBLISH
X-WR-CALNAME:Natur- &amp; Geopark Mëllerdall
X-ORIGINAL-URL:https://www.naturpark-mellerdall.lu/en/
X-WR-CALDESC:Events for Natur- &amp; Geopark Mëllerdall
BEGIN:VTIMEZONE
TZID:Europe/Luxembourg
BEGIN:DAYLIGHT
TZOFFSETFROM:+0100
TZOFFSETTO:+0200
TZNAME:CEST
DTSTART:20200329T010000
END:DAYLIGHT
BEGIN:STANDARD
TZOFFSETFROM:+0200
TZOFFSETTO:+0100
TZNAME:CET
DTSTART:20201025T010000
END:STANDARD
END:VTIMEZONE
BEGIN:VEVENT
DTSTART;TZID=Europe/Luxembourg:20201106T090000
DTEND;TZID=Europe/Luxembourg:20201106T170000
DTSTAMP:20210426T182510
CREATED:20201005T073942Z
LAST-MODIFIED:20201005T074127Z
UID:7888-1604653200-1604682000@www.naturpark-mellerdall.lu
SUMMARY:Wooden wall decoration
DESCRIPTION:Gemeinsam mit Schreiner Robi Baden werden dekorative Elemente zum Aufhängen gebaut. Hier kann jeder kreativ sein und aus verschiedenen Holzarten Tiermuster gestalten. \nAb 18 Jahren \nMitbringen: Bleistift\, Meter \n6.11. \n9:00-17:00 \nWaldbillig \n350 € \nAnmeldungen bitte an: info@naturpark-mellerdall.lu oder 26 87 82 91
URL:https://www.naturpark-mellerdall.lu/en/event/mauerdekoration-aus-holz/
LOCATION:Waldbillig\, Waldbillig\, Luxemburg
CATEGORIES:Kultur,Natur
ATTACH;FMTTYPE=image/jpeg:https://www.naturpark-mellerdall.lu/wp-content/uploads/2020/10/WanddekocNGPMElinaZepp.jpg
ORGANIZER;CN="Natur-%20%26%20Geopark%20M%C3%ABllerdall":MAILTO:info@naturpark-mellerdall.lu
END:VEVENT
END:VCALENDAR