BEGIN:VCALENDAR
VERSION:2.0
PRODID:-//Natur- &amp; Geopark Mëllerdall - ECPv5.5.0//NONSGML v1.0//EN
CALSCALE:GREGORIAN
METHOD:PUBLISH
X-WR-CALNAME:Natur- &amp; Geopark Mëllerdall
X-ORIGINAL-URL:https://www.naturpark-mellerdall.lu/en/
X-WR-CALDESC:Events for Natur- &amp; Geopark Mëllerdall
BEGIN:VTIMEZONE
TZID:Europe/Luxembourg
BEGIN:DAYLIGHT
TZOFFSETFROM:+0100
TZOFFSETTO:+0200
TZNAME:CEST
DTSTART:20200329T010000
END:DAYLIGHT
BEGIN:STANDARD
TZOFFSETFROM:+0200
TZOFFSETTO:+0100
TZNAME:CET
DTSTART:20201025T010000
END:STANDARD
END:VTIMEZONE
BEGIN:VEVENT
DTSTART;TZID=Europe/Luxembourg:20201111T093000
DTEND;TZID=Europe/Luxembourg:20201111T130000
DTSTAMP:20210426T182519
CREATED:20201005T070357Z
LAST-MODIFIED:20201109T075343Z
UID:7877-1605087000-1605099600@www.naturpark-mellerdall.lu
SUMMARY:CANCELLED - How to sharpen a knife
DESCRIPTION:With the support of Andreas Schmitt you will learn how to properly sharpen a knife! This is done with different types of whetstones. He will also show you how to do small repairs on a knife yourself. \nBring: 3-4 knives \n11.11. \n9:30-13:00 \nHerborn \n€ 60 \nPlease register at: info@naturpark-mellerdall.lu or 26 87 82 91
URL:https://www.naturpark-mellerdall.lu/en/event/messer-schaerfen/
LOCATION:Herborn\, Herborn\, Luxemburg
CATEGORIES:Kultur
ATTACH;FMTTYPE=image/jpeg:https://www.naturpark-mellerdall.lu/wp-content/uploads/2020/10/Messerschleifenccc0Pixabay.jpg
ORGANIZER;CN="Natur-%20%26%20Geopark%20M%C3%ABllerdall":MAILTO:info@naturpark-mellerdall.lu
END:VEVENT
END:VCALENDAR