BEGIN:VCALENDAR
VERSION:2.0
PRODID:-//Natur- &amp; Geopark Mëllerdall - ECPv5.5.0//NONSGML v1.0//EN
CALSCALE:GREGORIAN
METHOD:PUBLISH
X-WR-CALNAME:Natur- &amp; Geopark Mëllerdall
X-ORIGINAL-URL:https://www.naturpark-mellerdall.lu/en/
X-WR-CALDESC:Events for Natur- &amp; Geopark Mëllerdall
BEGIN:VTIMEZONE
TZID:Europe/Luxembourg
BEGIN:DAYLIGHT
TZOFFSETFROM:+0100
TZOFFSETTO:+0200
TZNAME:CEST
DTSTART:20200329T010000
END:DAYLIGHT
BEGIN:STANDARD
TZOFFSETFROM:+0200
TZOFFSETTO:+0100
TZNAME:CET
DTSTART:20201025T010000
END:STANDARD
BEGIN:DAYLIGHT
TZOFFSETFROM:+0100
TZOFFSETTO:+0200
TZNAME:CEST
DTSTART:20210328T010000
END:DAYLIGHT
BEGIN:STANDARD
TZOFFSETFROM:+0200
TZOFFSETTO:+0100
TZNAME:CET
DTSTART:20211031T010000
END:STANDARD
END:VTIMEZONE
BEGIN:VEVENT
DTSTART;TZID=Europe/Luxembourg:20201127T090000
DTEND;TZID=Europe/Luxembourg:20210128T170000
DTSTAMP:20210426T182529
CREATED:20200929T144552Z
LAST-MODIFIED:20201005T111341Z
UID:7861-1606467600-1611853200@www.naturpark-mellerdall.lu
SUMMARY:Rocking horse
DESCRIPTION:Together with carpenter Robi Baden\, you will build your own rocking horse. Attention: manual skills are necessary! You might also be interested in the “From tree to board” course. \nFrom 18 years \nWhat to bring: pencil\, meter \n\n+ 28.11.\n\n9:00-17:00 \nWaldbillig \n600 € \nPlease register at: info@naturpark-mellerdall.lu or 26 87 82 91
URL:https://www.naturpark-mellerdall.lu/en/event/schaukelpferd/
LOCATION:Waldbillig\, Waldbillig\, Luxemburg
CATEGORIES:Kultur,Natur,Region
ATTACH;FMTTYPE=image/jpeg:https://www.naturpark-mellerdall.lu/wp-content/uploads/2020/09/SchaukepaerdcCharelFaust-16-1-scaled.jpg
ORGANIZER;CN="Natur-%20%26%20Geopark%20M%C3%ABllerdall":MAILTO:info@naturpark-mellerdall.lu
END:VEVENT
END:VCALENDAR