BEGIN:VCALENDAR
VERSION:2.0
PRODID:-//Natur- &amp; Geopark Mëllerdall - ECPv5.5.0//NONSGML v1.0//EN
CALSCALE:GREGORIAN
METHOD:PUBLISH
X-WR-CALNAME:Natur- &amp; Geopark Mëllerdall
X-ORIGINAL-URL:https://www.naturpark-mellerdall.lu/en/
X-WR-CALDESC:Events for Natur- &amp; Geopark Mëllerdall
BEGIN:VTIMEZONE
TZID:Europe/Luxembourg
BEGIN:DAYLIGHT
TZOFFSETFROM:+0100
TZOFFSETTO:+0200
TZNAME:CEST
DTSTART:20210328T010000
END:DAYLIGHT
BEGIN:STANDARD
TZOFFSETFROM:+0200
TZOFFSETTO:+0100
TZNAME:CET
DTSTART:20211031T010000
END:STANDARD
END:VTIMEZONE
BEGIN:VEVENT
DTSTART;TZID=Europe/Luxembourg:20210509T100000
DTEND;TZID=Europe/Luxembourg:20210509T133000
DTSTAMP:20210423T181844
CREATED:20200928T141752Z
LAST-MODIFIED:20210126T121420Z
UID:7508-1620554400-1620567000@www.naturpark-mellerdall.lu
SUMMARY:FULLY BOOKED! For kids: Donkey and goutweed hike
DESCRIPTION:Together with the goat Polly and the donkeys Schakkeline\, Pablo & Co and the educators Conny Scholtes and Alex Trentin we hike through the Beaufort forest. A picnic will be eaten on the way. The hike takes 2 hours\, is moderately difficult and about 5 km long. In the end you will get a little goutweed surprise! \nFrom age 6 \nBring: sturdy shoes\, suitable clothing\, picnic \n9.5. \n10: 00-13: 30 \nBeaufort \n15 € / child \n30 € / adult \nPlease register at: info@naturpark-mellerdall.lu or 26 87 82 91
URL:https://www.naturpark-mellerdall.lu/en/event/esel-gierschwanderung/
LOCATION:Beaufort\, Beaufort\, Luxemburg
CATEGORIES:Kids,Natur,Region
ATTACH;FMTTYPE=image/jpeg:https://www.naturpark-mellerdall.lu/wp-content/uploads/2018/10/20180429_Klengdéieren_cAlex_Trentin3.jpeg
ORGANIZER;CN="Natur-%20%26%20Geopark%20M%C3%ABllerdall":MAILTO:info@naturpark-mellerdall.lu
END:VEVENT
END:VCALENDAR