BEGIN:VCALENDAR
VERSION:2.0
PRODID:-//Natur- &amp; Geopark Mëllerdall - ECPv5.5.0//NONSGML v1.0//EN
CALSCALE:GREGORIAN
METHOD:PUBLISH
X-WR-CALNAME:Natur- &amp; Geopark Mëllerdall
X-ORIGINAL-URL:https://www.naturpark-mellerdall.lu/en/
X-WR-CALDESC:Events for Natur- &amp; Geopark Mëllerdall
BEGIN:VTIMEZONE
TZID:Europe/Luxembourg
BEGIN:DAYLIGHT
TZOFFSETFROM:+0100
TZOFFSETTO:+0200
TZNAME:CEST
DTSTART:20210328T010000
END:DAYLIGHT
BEGIN:STANDARD
TZOFFSETFROM:+0200
TZOFFSETTO:+0100
TZNAME:CET
DTSTART:20211031T010000
END:STANDARD
END:VTIMEZONE
BEGIN:VEVENT
DTSTART;TZID=Europe/Luxembourg:20210515T100000
DTEND;TZID=Europe/Luxembourg:20210515T150000
DTSTAMP:20210423T181854
CREATED:20200928T153420Z
LAST-MODIFIED:20201027T101230Z
UID:7594-1621072800-1621090800@www.naturpark-mellerdall.lu
SUMMARY:FULLY BOOKED - Herb workshop
DESCRIPTION:In and around the generation garden in Beaufort we discover wild herbs\, which we get to know and determine in a first workshop. Then the herbs are dried and processed into herbal oil\, from which we will manufacture various products in a second workshop: ointments\, syrup\, deodorant\, shower gel\, … We only work with natural ingredients\, without preservatives and exclusively on an open fire. \nBring: small mason jars \n15.5.+26.6. \n10:00-15:00 & 10:00-14:00 \nBeaufort \n80 € \nPlease register at: info@naturpark-mellerdall.lu or 26 87 82 91
URL:https://www.naturpark-mellerdall.lu/en/event/kraeuterwerkstatt/
LOCATION:Beaufort\, Beaufort\, Luxemburg
CATEGORIES:Kultur,Natur,Region
ATTACH;FMTTYPE=image/jpeg:https://www.naturpark-mellerdall.lu/wp-content/uploads/2020/09/KraiderateliercAnnickFeipel.jpg
END:VEVENT
END:VCALENDAR