BEGIN:VCALENDAR
VERSION:2.0
PRODID:-//Natur- &amp; Geopark Mëllerdall - ECPv5.5.0//NONSGML v1.0//EN
CALSCALE:GREGORIAN
METHOD:PUBLISH
X-WR-CALNAME:Natur- &amp; Geopark Mëllerdall
X-ORIGINAL-URL:https://www.naturpark-mellerdall.lu/en/
X-WR-CALDESC:Events for Natur- &amp; Geopark Mëllerdall
BEGIN:VTIMEZONE
TZID:Europe/Luxembourg
BEGIN:DAYLIGHT
TZOFFSETFROM:+0100
TZOFFSETTO:+0200
TZNAME:CEST
DTSTART:20210328T010000
END:DAYLIGHT
BEGIN:STANDARD
TZOFFSETFROM:+0200
TZOFFSETTO:+0100
TZNAME:CET
DTSTART:20211031T010000
END:STANDARD
END:VTIMEZONE
BEGIN:VEVENT
DTSTART;TZID=Europe/Luxembourg:20210604T090000
DTEND;TZID=Europe/Luxembourg:20210604T170000
DTSTAMP:20210423T181903
CREATED:20200928T152029Z
LAST-MODIFIED:20210329T075932Z
UID:7580-1622797200-1622826000@www.naturpark-mellerdall.lu
SUMMARY:CANCELLED! Advanced course: wood turning
DESCRIPTION:To take this course\, you must have taken one of the basic courses. Building on the basic knowledge\, carpenter Robi Baden shows you a whole range of tips and tricks for wood turning. \nFrom 18 years \n4.6. \n9:00-17:00 \nWaldbillig \n€ 270 \nPlease register at: info@naturpark-mellerdall.lu or 26 87 82 91 \nYou can find more information on the mandatory basic lessons: \nBasic class: Wood turning (for women) \nBasic class: Wood turning
URL:https://www.naturpark-mellerdall.lu/en/event/aufbaukurs-drechseln/
LOCATION:Waldbillig\, Waldbillig\, Luxemburg
CATEGORIES:Kultur,Region
ATTACH;FMTTYPE=image/jpeg:https://www.naturpark-mellerdall.lu/wp-content/uploads/2020/09/DrechselnForgeschrittencRobiBaden-scaled.jpg
ORGANIZER;CN="Natur-%20%26%20Geopark%20M%C3%ABllerdall":MAILTO:info@naturpark-mellerdall.lu
END:VEVENT
END:VCALENDAR