BEGIN:VCALENDAR
VERSION:2.0
PRODID:-//Natur- &amp; Geopark Mëllerdall - ECPv5.5.0//NONSGML v1.0//EN
CALSCALE:GREGORIAN
METHOD:PUBLISH
X-WR-CALNAME:Natur- &amp; Geopark Mëllerdall
X-ORIGINAL-URL:https://www.naturpark-mellerdall.lu/en/
X-WR-CALDESC:Events for Natur- &amp; Geopark Mëllerdall
BEGIN:VTIMEZONE
TZID:Europe/Luxembourg
BEGIN:DAYLIGHT
TZOFFSETFROM:+0100
TZOFFSETTO:+0200
TZNAME:CEST
DTSTART:20210328T010000
END:DAYLIGHT
BEGIN:STANDARD
TZOFFSETFROM:+0200
TZOFFSETTO:+0100
TZNAME:CET
DTSTART:20211031T010000
END:STANDARD
END:VTIMEZONE
BEGIN:VEVENT
DTSTART;TZID=Europe/Luxembourg:20210605T133000
DTEND;TZID=Europe/Luxembourg:20210605T170000
DTSTAMP:20210423T181913
CREATED:20200928T140705Z
LAST-MODIFIED:20201027T101824Z
UID:7500-1622899800-1622912400@www.naturpark-mellerdall.lu
SUMMARY:FULLY BOOKED - For kids: An afternoon with the bees
DESCRIPTION:In this workshop you will experience the life of bees and beekeepers with beekeepers Marc Thiel from SIAS and Peter Kraus from ANF. You will see how a beehive is built\, how the colony works\, what the beekeeper does and finally honey is centrifuged. At the end you will get a jar of honey to take home with you. \n5.6. \n13:30-17:00 \nEchternach \n10 € \nPlease register at: info@naturpark-mellerdall.lu or 26 87 82 91
URL:https://www.naturpark-mellerdall.lu/en/event/ein-nachmittag-mit-den-bienen/
LOCATION:Echternach\, Echternach\, Luxemburg
CATEGORIES:Kids,Kultur,Natur
ATTACH;FMTTYPE=image/jpeg:https://www.naturpark-mellerdall.lu/wp-content/uploads/2019/03/RS32863_BéienCaroline-Martin-scr.jpg
END:VEVENT
END:VCALENDAR