BEGIN:VCALENDAR
VERSION:2.0
PRODID:-//Natur- &amp; Geopark Mëllerdall - ECPv5.5.0//NONSGML v1.0//EN
CALSCALE:GREGORIAN
METHOD:PUBLISH
X-WR-CALNAME:Natur- &amp; Geopark Mëllerdall
X-ORIGINAL-URL:https://www.naturpark-mellerdall.lu
X-WR-CALDESC:Veranstaltungen für Natur- &amp; Geopark Mëllerdall
BEGIN:VTIMEZONE
TZID:Europe/Luxembourg
BEGIN:DAYLIGHT
TZOFFSETFROM:+0100
TZOFFSETTO:+0200
TZNAME:CEST
DTSTART:20200329T010000
END:DAYLIGHT
BEGIN:STANDARD
TZOFFSETFROM:+0200
TZOFFSETTO:+0100
TZNAME:CET
DTSTART:20201025T010000
END:STANDARD
END:VTIMEZONE
BEGIN:VEVENT
DTSTART;VALUE=DATE:20201009
DTEND;VALUE=DATE:20201101
DTSTAMP:20210425T034151
CREATED:20201005T140105Z
LAST-MODIFIED:20201006T074119Z
UID:7966-1602201600-1604188799@www.naturpark-mellerdall.lu
SUMMARY:Bongertmenu im Restaurant Aal Eechternoach
DESCRIPTION:Hier wird großer Wert darauf gelegt\, Produkte aus der Region zu verwenden. Darüber hinaus wird darauf geachtet\, auch saisonale Produkte zu verwenden. Aus diesem Anlass\, und passend zum Monat der StreuobstwiesenHochstämmige Obstbäume\, die verstreut in der Landschaft st... More\, hat man sich folgendes Menü ausgedacht: \n\nGebratene Jakobsmuscheln auf einer Apfelvinaigrette\nFilet vom Schwein der „Marque Nationale“ mit Apfel-Zwiebel Gemüse\, Serviettenknödel und einer Camadonven-Sahnesoße (Camadonven = Apfelweinbrand)\nWarmer Zwetschgenkuchen mit Streusel und hausgemachter Schlagsahne\n\nBegleitend zum Menü werden Getränke auf Streuobstwiesen-Obst-Basis angeboten. \nDas Menü wird nur an folgenden Daten angeboten: \n9. + 10. Oktober \n16. + 17. Oktober \n23. + 24. Oktober \n30. + 31. Oktober \nAußerdem kann während dem ganzen Monat Oktober „Müllerthaler Pfannkuchen“ mit frischen Äpfeln genossen werden. Verpassen Sie also nicht sich Ihren Tisch zu reservieren und einen guten Happen hier zu essen. \nReservieren können Sie unter der Nummer : +352 26 72 08 80
URL:https://www.naturpark-mellerdall.lu/event/bongertmenu-im-restaurant-aal-eechternoach/
LOCATION:Echternach\, Echternach\, Luxemburg
CATEGORIES:Kultur,Natur,Region
ATTACH;FMTTYPE=image/jpeg:https://www.naturpark-mellerdall.lu/wp-content/uploads/2020/10/rsz_aleech-scaled.jpg
END:VEVENT
END:VCALENDAR