BEGIN:VCALENDAR
VERSION:2.0
PRODID:-//Natur- &amp; Geopark Mëllerdall - ECPv5.5.0//NONSGML v1.0//EN
CALSCALE:GREGORIAN
METHOD:PUBLISH
X-WR-CALNAME:Natur- &amp; Geopark Mëllerdall
X-ORIGINAL-URL:https://www.naturpark-mellerdall.lu
X-WR-CALDESC:Veranstaltungen für Natur- &amp; Geopark Mëllerdall
BEGIN:VTIMEZONE
TZID:Europe/Luxembourg
BEGIN:DAYLIGHT
TZOFFSETFROM:+0100
TZOFFSETTO:+0200
TZNAME:CEST
DTSTART:20210328T010000
END:DAYLIGHT
BEGIN:STANDARD
TZOFFSETFROM:+0200
TZOFFSETTO:+0100
TZNAME:CET
DTSTART:20211031T010000
END:STANDARD
END:VTIMEZONE
BEGIN:VEVENT
DTSTART;TZID=Europe/Luxembourg:20210605T133000
DTEND;TZID=Europe/Luxembourg:20210605T170000
DTSTAMP:20210423T103140
CREATED:20200928T140705Z
LAST-MODIFIED:20201027T101842Z
UID:7497-1622899800-1622912400@www.naturpark-mellerdall.lu
SUMMARY:AUSGEBUCHT - Für Kinder: Ein Nachmittag mit den Bienen
DESCRIPTION:In diesem Workshop erlebst du mit den Imkern Marc Thiel vom SIAS und Peter Kraus von der ANF das Leben der Bienen und der Imker. Du wirst sehen\, wie ein Bienenstock aufgebaut ist\, wie das Volk funktioniert\, was die Arbeiten des Imkers sind und am Schluss wird Honig geschleudert. Danach kriegst du ein Glas Honig mit nach Hause. \n5.6. \n13:30-17:00 \nEchternach \n10 € \nAnmeldungen bitte an: info@naturpark-mellerdall.lu oder 26 87 82 91
URL:https://www.naturpark-mellerdall.lu/event/ein-nachmittag-mit-den-bienen/
LOCATION:Echternach\, Echternach\, Luxemburg
CATEGORIES:Kids,Kultur,Natur
ATTACH;FMTTYPE=image/jpeg:https://www.naturpark-mellerdall.lu/wp-content/uploads/2019/03/RS32863_BéienCaroline-Martin-scr.jpg
ORGANIZER;CN="Natur-%20%26%20Geopark%20M%C3%ABllerdall":MAILTO:info@naturpark-mellerdall.lu
END:VEVENT
END:VCALENDAR