BEGIN:VCALENDAR
VERSION:2.0
PRODID:-//Natur- &amp; Geopark Mëllerdall - ECPv5.5.0//NONSGML v1.0//EN
CALSCALE:GREGORIAN
METHOD:PUBLISH
X-WR-CALNAME:Natur- &amp; Geopark Mëllerdall
X-ORIGINAL-URL:https://www.naturpark-mellerdall.lu
X-WR-CALDESC:Veranstaltungen für Natur- &amp; Geopark Mëllerdall
BEGIN:VTIMEZONE
TZID:Europe/Luxembourg
BEGIN:DAYLIGHT
TZOFFSETFROM:+0100
TZOFFSETTO:+0200
TZNAME:CEST
DTSTART:20200329T010000
END:DAYLIGHT
BEGIN:STANDARD
TZOFFSETFROM:+0200
TZOFFSETTO:+0100
TZNAME:CET
DTSTART:20201025T010000
END:STANDARD
END:VTIMEZONE
BEGIN:VEVENT
DTSTART;VALUE=DATE:20200915
DTEND;VALUE=DATE:20201101
DTSTAMP:20210426T183022
CREATED:20200914T122530Z
LAST-MODIFIED:20200914T124429Z
UID:7226-1600128000-1604188799@www.naturpark-mellerdall.lu
SUMMARY:Eppelpress
DESCRIPTION:Mit dem Fokus auf regional gewachsenem Obst\, wird bei der Safterei „Eppelpress“ Apfelsaft aus Ihren Äpfeln gepresst. Ab Mitte September werden Ihre Äpfel hier gewaschen\, gemahlen\, gepresst und pasteurisiert. Dabei können aus 100 kg Obst ca. 65 Liter Saft gewonnen werden. In praktischen Bag-in-Box Verpackungen können Sie dann Ihren eigenen Apfelsaft mitnehmen. \nUm Ihnen einen guten Service anbieten zu können wird deshalb gebeten Folgendes zu beachten: \n\nAb einer angelieferten Menge von 200 kg Äpfel kann gepresst werden.\nEs wird ausschließlich auf Termin gepresst\, machen Sie Ihren Termin bitte frühzeitig aus.\nTermine werden ausschließlich per Telefon während den Öffnungszeiten vergeben.\n\nBitte beachten Sie während der Viezsaison folgende Zeiten für die Anlieferung der Äpfel\, die Abholung ihres Saftes\, sowie den Verkauf der Produkte: \nMo-Fr 10:00-12:00\, 14:00-19:00 Uhr \nSa 10:00-12:00\, 14:00-17:00 Uhr \nSo geschlossen \nNeben der Dienstleistung des Apfelsaftpressen der eigenen Äpfel\, bietet die Safterei „Eppelpress“ zudem eigene Produkte an\, die Sie bei ihnen erwerben können! \nInfos und Termin: Tel. +352 691 836185 \nWeitere Erklärungen finden Sie hier: https://eppelpress.lu/products/your-apple-juice/ \nEinblick in die Safterei:
URL:https://www.naturpark-mellerdall.lu/event/eppelpress/
CATEGORIES:Kultur,Region
ATTACH;FMTTYPE=image/jpeg:https://www.naturpark-mellerdall.lu/wp-content/uploads/2020/09/Eppelpress.jpg
END:VEVENT
END:VCALENDAR