BEGIN:VCALENDAR
VERSION:2.0
PRODID:-//Natur- &amp; Geopark Mëllerdall - ECPv5.5.0//NONSGML v1.0//EN
CALSCALE:GREGORIAN
METHOD:PUBLISH
X-WR-CALNAME:Natur- &amp; Geopark Mëllerdall
X-ORIGINAL-URL:https://www.naturpark-mellerdall.lu
X-WR-CALDESC:Veranstaltungen für Natur- &amp; Geopark Mëllerdall
BEGIN:VTIMEZONE
TZID:Europe/Luxembourg
BEGIN:DAYLIGHT
TZOFFSETFROM:+0100
TZOFFSETTO:+0200
TZNAME:CEST
DTSTART:20210328T010000
END:DAYLIGHT
BEGIN:STANDARD
TZOFFSETFROM:+0200
TZOFFSETTO:+0100
TZNAME:CET
DTSTART:20211031T010000
END:STANDARD
END:VTIMEZONE
BEGIN:VEVENT
DTSTART;TZID=Europe/Luxembourg:20210509T100000
DTEND;TZID=Europe/Luxembourg:20210509T133000
DTSTAMP:20210423T103118
CREATED:20200928T141752Z
LAST-MODIFIED:20210126T121403Z
UID:7506-1620554400-1620567000@www.naturpark-mellerdall.lu
SUMMARY:AUSGEBUCHT! Für Kinder: Esel- & Gierschwanderung
DESCRIPTION:Zusammen mit Ziege Polly und den Eseln Schakkeline\, Pablo & Co und den Tierpädagoginnen Conny Scholtes und Alex Trentin wandern wir durch den Beauforter Wald. Unterwegs wird ein Picnic gegessen. Die Wanderung dauert 2h\, ist mittelschwer und ca 5 km lang. Zum Schluss gibt es eine kleine Gierschüberraschung! \nAb 6 Jahren \nMitbringen: feste Schuhe\, angepasste Kleidung\, Picnic \n9.5. \n10:00-13:30 \nBeaufort \n15 €/Kind \n30 €/Erwachsener \nAnmeldungen bitte an: info@naturpark-mellerdall.lu oder 26 87 82 91
URL:https://www.naturpark-mellerdall.lu/event/esel-gierschwanderung/
LOCATION:Beaufort\, Beaufort\, Luxemburg
CATEGORIES:Kids,Natur,Region
ATTACH;FMTTYPE=image/jpeg:https://www.naturpark-mellerdall.lu/wp-content/uploads/2018/10/20180429_Klengdéieren_cAlex_Trentin3.jpeg
ORGANIZER;CN="Natur-%20%26%20Geopark%20M%C3%ABllerdall":MAILTO:info@naturpark-mellerdall.lu
END:VEVENT
END:VCALENDAR