BEGIN:VCALENDAR
VERSION:2.0
PRODID:-//Natur- &amp; Geopark Mëllerdall - ECPv5.5.0//NONSGML v1.0//EN
CALSCALE:GREGORIAN
METHOD:PUBLISH
X-WR-CALNAME:Natur- &amp; Geopark Mëllerdall
X-ORIGINAL-URL:https://www.naturpark-mellerdall.lu
X-WR-CALDESC:Veranstaltungen für Natur- &amp; Geopark Mëllerdall
BEGIN:VTIMEZONE
TZID:Europe/Luxembourg
BEGIN:DAYLIGHT
TZOFFSETFROM:+0100
TZOFFSETTO:+0200
TZNAME:CEST
DTSTART:20200329T010000
END:DAYLIGHT
BEGIN:STANDARD
TZOFFSETFROM:+0200
TZOFFSETTO:+0100
TZNAME:CET
DTSTART:20201025T010000
END:STANDARD
END:VTIMEZONE
BEGIN:VEVENT
DTSTART;TZID=Europe/Luxembourg:20200930T193000
DTEND;TZID=Europe/Luxembourg:20200930T220000
DTSTAMP:20210425T035113
CREATED:20200916T065247Z
LAST-MODIFIED:20200921T114819Z
UID:7368-1601494200-1601503200@www.naturpark-mellerdall.lu
SUMMARY:Infoversammlung: Energiepark Mëllerdall
DESCRIPTION:Der Natur- & Geopark Mëllerdall lädt ein zu einer Infoversammlung über den neuen Energiepark Mëllerdall. \nWeitere Informationen finden Sie im untenstehenden PDF.
URL:https://www.naturpark-mellerdall.lu/event/infoversammlung-energiepark-mellerdall/
LOCATION:Consdorf Kuerzwénkel\, 19\, rue de Berdorf\, Consdorf\, 6213\, Luxembourg
CATEGORIES:Natur,Region
ATTACH;FMTTYPE=image/jpeg:https://www.naturpark-mellerdall.lu/wp-content/uploads/2020/09/Logo-Energiepark_def.jpg
ORGANIZER;CN="Natur-%20%26%20Geopark%20M%C3%ABllerdall":MAILTO:info@naturpark-mellerdall.lu
GEO:49.787032;6.3430428
X-APPLE-STRUCTURED-LOCATION;VALUE=URI;X-ADDRESS=Consdorf Kuerzwénkel 19 rue de Berdorf Consdorf 6213 Luxembourg;X-APPLE-RADIUS=500;X-TITLE=19\, rue de Berdorf:geo:6.3430428,49.787032
END:VEVENT
END:VCALENDAR