BEGIN:VCALENDAR
VERSION:2.0
PRODID:-//Natur- &amp; Geopark Mëllerdall - ECPv5.5.0//NONSGML v1.0//EN
CALSCALE:GREGORIAN
METHOD:PUBLISH
X-WR-CALNAME:Natur- &amp; Geopark Mëllerdall
X-ORIGINAL-URL:https://www.naturpark-mellerdall.lu
X-WR-CALDESC:Veranstaltungen für Natur- &amp; Geopark Mëllerdall
BEGIN:VTIMEZONE
TZID:Europe/Luxembourg
BEGIN:DAYLIGHT
TZOFFSETFROM:+0100
TZOFFSETTO:+0200
TZNAME:CEST
DTSTART:20200329T010000
END:DAYLIGHT
BEGIN:STANDARD
TZOFFSETFROM:+0200
TZOFFSETTO:+0100
TZNAME:CET
DTSTART:20201025T010000
END:STANDARD
END:VTIMEZONE
BEGIN:VEVENT
DTSTART;TZID=Europe/Luxembourg:20200919T140000
DTEND;TZID=Europe/Luxembourg:20200919T160000
DTSTAMP:20210426T183043
CREATED:20200825T131643Z
LAST-MODIFIED:20200825T132044Z
UID:7082-1600524000-1600531200@www.naturpark-mellerdall.lu
SUMMARY:Jagdhorn
DESCRIPTION:Egal ob Anfänger oder Profi\, hier ist jeder willkommen! \nAuftakt (19.9.): Was ist ein Jagdhorn\, welche Arten gibt es und wie klingt sowas überhaupt? Finden Sie’s raus! Nach der Präsentation können Sie sich noch ein Konzert anhören. \n4 Proben: Zusammen mit Nicole Bertemes und John Mühlen lernen wir das Jagdhorn kennen. Hier wird gemeinsam in gemütlicher Runde geübt und gespielt. Die Datume werden gemeinsam festgelegt. \nAuftakt: 14:00-16:00\, ab 14 Jahren\, 5 € \n4 Proben: ab 14 Jahren\, 25 € \nEs sind ein paar Jagdhörner zum Verleih verfügbar. \nAnmeldungen bitte an 26 87 82 91 oder info@naturpark-mellerdall.lu.
URL:https://www.naturpark-mellerdall.lu/event/jagdhorn/
LOCATION:Nommern\, Nommern\, Luxemburg
CATEGORIES:Kultur
ATTACH;FMTTYPE=image/jpeg:https://www.naturpark-mellerdall.lu/wp-content/uploads/2020/08/Jagdhornccc0Pixabay.jpg
ORGANIZER;CN="Natur-%20%26%20Geopark%20M%C3%ABllerdall":MAILTO:info@naturpark-mellerdall.lu
END:VEVENT
END:VCALENDAR