BEGIN:VCALENDAR
VERSION:2.0
PRODID:-//Natur- &amp; Geopark Mëllerdall - ECPv5.5.0//NONSGML v1.0//EN
CALSCALE:GREGORIAN
METHOD:PUBLISH
X-WR-CALNAME:Natur- &amp; Geopark Mëllerdall
X-ORIGINAL-URL:https://www.naturpark-mellerdall.lu
X-WR-CALDESC:Veranstaltungen für Natur- &amp; Geopark Mëllerdall
BEGIN:VTIMEZONE
TZID:Europe/Luxembourg
BEGIN:DAYLIGHT
TZOFFSETFROM:+0100
TZOFFSETTO:+0200
TZNAME:CEST
DTSTART:20200329T010000
END:DAYLIGHT
BEGIN:STANDARD
TZOFFSETFROM:+0200
TZOFFSETTO:+0100
TZNAME:CET
DTSTART:20201025T010000
END:STANDARD
END:VTIMEZONE
BEGIN:VEVENT
DTSTART;TZID=Europe/Luxembourg:20201003T090000
DTEND;TZID=Europe/Luxembourg:20201003T120000
DTSTAMP:20210425T035122
CREATED:20200914T132953Z
LAST-MODIFIED:20200914T133028Z
UID:7303-1601715600-1601726400@www.naturpark-mellerdall.lu
SUMMARY:Sorten Drive-In
DESCRIPTION:Sie haben einen oder mehrere Apfel- oder Birnbäume und wissen nicht\, welche Sorte(n) Sie besitzen? Dann bieten wir Ihnen mit dem Pomologen Richard Dahlem die Gelegenheit\, dies zu ändern. Als Experte zur Bestimmung von Obstsorten\, kann er Ihnen sagen\, um welche Sorte(n) es sich handelt und wozu sich diese jeweils eignen. \nWas müssen Sie dafür tun? \nSammeln Sie minimum 5 Äpfel/Birnen von jedem Baum und bringen Sie diese zu uns in den Drive-In. Die jeweiligen Stichproben werden dann vor Ort von Herr Dahlem bestimmt. Bitte achten Sie beim Sammeln der Früchte darauf\, dass die einzelnen Stichproben so gekennzeichnet werden\, dass diese nachher dem zugehörigen Baum wieder zugeordnet werden können. \nDie Bestimmung der Sorte ist sowohl für Sie als auch für uns interessant\, da wir somit die Information über die in der Region vorkommenden Sorten und deren Standort erhalten. \nWann und wo finden die Drive-In’s statt? \nDer erste Termin ist am 3. Oktober in Born im Hof des Produzenten Ramborn (23 Duerfstrooss\, L-6660 Born). \nUhrzeit: 9:00 h – 12:00 h \nDer zweite Termin ist am 10. Oktober in Schrondweiler auf dem Parkplatz vor der „Epicerie am Duerf“. \nUhrzeit: 14:00 h – 17:00 h
URL:https://www.naturpark-mellerdall.lu/event/sorten-drive-in/
LOCATION:Born\, Born\, Luxembourg
CATEGORIES:Kultur,Region
ATTACH;FMTTYPE=image/jpeg:https://www.naturpark-mellerdall.lu/wp-content/uploads/2018/04/K1600_3340_P1030016_marc-1.jpg
ORGANIZER;CN="Natur-%20%26%20Geopark%20M%C3%ABllerdall":MAILTO:info@naturpark-mellerdall.lu
GEO:49.7591565;6.5116094
END:VEVENT
END:VCALENDAR