BEGIN:VCALENDAR
VERSION:2.0
PRODID:-//Natur- &amp; Geopark Mëllerdall - ECPv5.5.0//NONSGML v1.0//EN
CALSCALE:GREGORIAN
METHOD:PUBLISH
X-WR-CALNAME:Natur- &amp; Geopark Mëllerdall
X-ORIGINAL-URL:https://www.naturpark-mellerdall.lu
X-WR-CALDESC:Veranstaltungen für Natur- &amp; Geopark Mëllerdall
BEGIN:VTIMEZONE
TZID:Europe/Luxembourg
BEGIN:DAYLIGHT
TZOFFSETFROM:+0100
TZOFFSETTO:+0200
TZNAME:CEST
DTSTART:20210328T010000
END:DAYLIGHT
BEGIN:STANDARD
TZOFFSETFROM:+0200
TZOFFSETTO:+0100
TZNAME:CET
DTSTART:20211031T010000
END:STANDARD
END:VTIMEZONE
BEGIN:VEVENT
DTSTART;TZID=Europe/Luxembourg:20210312T090000
DTEND;TZID=Europe/Luxembourg:20210313T170000
DTSTAMP:20210423T181020
CREATED:20200929T075900Z
LAST-MODIFIED:20201005T115332Z
UID:7675-1615539600-1615654800@www.naturpark-mellerdall.lu
SUMMARY:kleines Gewächshaus
DESCRIPTION:In diesem Kurs bauen Sie zusammen mit Schreiner Robi Baden ein Gewächshaus (ca 1.40 x 0.60 m) aus Massivholz. Das Beet und das Dach werden komplett eigenständig aufgebaut. Achtung: handwerkliches Geschick ist notwendig! Der Kurs „Vom Baum zum Brett“ könnte Sie auch interessieren! \nAb 18 Jahren \nMitbringen: Bleistift\, Meter \n12.+13.3. \n9:00-17:00 \nWaldbillig \n600 € \nAnmeldungen bitte an: info@naturpark-mellerdall.lu oder 26 87 82 91
URL:https://www.naturpark-mellerdall.lu/event/kleines-gewaechshaus/
LOCATION:Waldbillig\, Waldbillig\, Luxemburg
CATEGORIES:Kultur,Region
ATTACH;FMTTYPE=image/jpeg:https://www.naturpark-mellerdall.lu/wp-content/uploads/2020/09/klengZaerccc0Pixabay.jpg
ORGANIZER;CN="Natur-%20%26%20Geopark%20M%C3%ABllerdall":MAILTO:info@naturpark-mellerdall.lu
END:VEVENT
BEGIN:VEVENT
DTSTART;TZID=Europe/Luxembourg:20210313T090000
DTEND;TZID=Europe/Luxembourg:20210313T120000
DTSTAMP:20210423T181020
CREATED:20200929T074715Z
LAST-MODIFIED:20201006T072915Z
UID:7663-1615626000-1615636800@www.naturpark-mellerdall.lu
SUMMARY:Obstbaumschnitt: junge Bäume (auf frz.)
DESCRIPTION:Damit Obstbäume irgendwann sachön werden und gutes Obst tragen muss man sie frühzeitig zurückschneiden. Wie das richtig gemacht wird zeigt Ihnen Claude Petit vom Natur- & Geopark Mëllerdall in diesem Kurs. ACHTUNG: der Kurs ist auf französisch! \n13.3. \n9:00-12:00 \nConsdorf \n5 € \nAnmeldungen bitte an: info@naturpark-mellerdall.lu oder 26 87 82 91 \nUnser Kurs zum richtigen Schnitt bei Spalierbäumen könnte Sie auch interessieren!
URL:https://www.naturpark-mellerdall.lu/event/obstbaumschnitt-junge-baeume-auf-frz/
LOCATION:Consdorf\, rte d'echternach\, Consdorf\, 6212\, Luxembourg
CATEGORIES:Kultur,Natur,Region
ATTACH;FMTTYPE=image/jpeg:https://www.naturpark-mellerdall.lu/wp-content/uploads/2018/05/K1600_3340_NPM-Anna-34.jpg
ORGANIZER;CN="Natur-%20%26%20Geopark%20M%C3%ABllerdall":MAILTO:info@naturpark-mellerdall.lu
GEO:49.7817622;6.3456732
X-APPLE-STRUCTURED-LOCATION;VALUE=URI;X-ADDRESS=Consdorf rte d'echternach Consdorf 6212 Luxembourg;X-APPLE-RADIUS=500;X-TITLE=rte d'echternach:geo:6.3456732,49.7817622
END:VEVENT
END:VCALENDAR