BEGIN:VCALENDAR
VERSION:2.0
PRODID:-//Natur- &amp; Geopark Mëllerdall - ECPv5.0.2.1//NONSGML v1.0//EN
CALSCALE:GREGORIAN
METHOD:PUBLISH
X-WR-CALNAME:Natur- &amp; Geopark Mëllerdall
X-ORIGINAL-URL:https://www.naturpark-mellerdall.lu
X-WR-CALDESC:Veranstaltungen im Natur- &amp; Geopark Mëllerdall
BEGIN:VTIMEZONE
TZID:Europe/Berlin
BEGIN:DAYLIGHT
TZOFFSETFROM:+0100
TZOFFSETTO:+0200
TZNAME:CEST
DTSTART:20200329T010000
END:DAYLIGHT
BEGIN:STANDARD
TZOFFSETFROM:+0200
TZOFFSETTO:+0100
TZNAME:CET
DTSTART:20201025T010000
END:STANDARD
TZID:Europe/Luxembourg
BEGIN:DAYLIGHT
TZOFFSETFROM:+0100
TZOFFSETTO:+0200
TZNAME:CEST
DTSTART:20200329T010000
END:DAYLIGHT
BEGIN:STANDARD
TZOFFSETFROM:+0200
TZOFFSETTO:+0100
TZNAME:CET
DTSTART:20201025T010000
END:STANDARD
END:VTIMEZONE
BEGIN:VEVENT
DTSTART;TZID=Europe/Berlin:20200424T190000
DTEND;TZID=Europe/Berlin:20200424T213000
DTSTAMP:20200421T094121
CREATED:20190918T142815Z
LAST-MODIFIED:20200327T140825Z
UID:4942-1587754800-1587763800@www.naturpark-mellerdall.lu
SUMMARY:ABGESAGT! Was ist ein guter Schnaps?
DESCRIPTION:Aufgrund der Coronapandemie ist dieses Event leider abgesagt. Wir bitten um Verständnis. \n  \nWoran erkennt man  einen guten Schnaps? Im Natur- & Geopark Mëllerdall gibt es eine große Vielfalt in den Streuobstwiesen und deshalb auch im Schnapsglas! Zusammen mit dem Sommelier Paul Thill werden unsere regionalen Schnäpse verkostet und Sie lernen worauf es ankommt. Außerdem mit dabei ist eine Besichtigung der Brennerei Tudorsgeeschter\, wo Sie sehen\, wie der Schnaps vom Baum ins Glas kommt. Nach der Verköstigung essen alle zusammen einen Happen vom Fromburgerhof. \nPreis: 42 €\nab 18 Jahren \nmit dem Sommelier Paul Thill und der Brennerei Tudorsgeeschter \n
URL:https://www.naturpark-mellerdall.lu/event/was-ist-ein-guter-schnaps/
LOCATION:Rosport\, Rosport\, Luxemburg
CATEGORIES:Kultur,Region
ATTACH;FMTTYPE=image/jpeg:https://www.naturpark-mellerdall.lu/wp-content/uploads/2019/09/DreppencAnnaVoelske.jpg
ORGANIZER;CN="Natur-%20%26%20Geopark%20M%C3%ABllerdall":MAILTO:info@naturpark-mellerdall.lu
END:VEVENT
BEGIN:VEVENT
DTSTART;TZID=Europe/Berlin:20200425T140000
DTEND;TZID=Europe/Berlin:20200425T173000
DTSTAMP:20200421T094121
CREATED:20190918T140711Z
LAST-MODIFIED:20200327T140915Z
UID:4920-1587823200-1587835800@www.naturpark-mellerdall.lu
SUMMARY:ABGESAGT! Geologische Wanderung
DESCRIPTION:Aufgrund der Coronapandemie ist dieses Event leider abgesagt. Wir bitten um Verständnis. \n  \nDie Teiche bei Fischbach erinnern heute noch an die Industriegeschichte des Dorfes. Hier waren von 1768 bis 1857 die Hochöfen aktiv. Kommen Sie mit auf eine geologische Reise durch die Geschichte! \nSchwierigkeitsgrad: einfach; feste Schuhe werden empfohlen \nPreis: 5 € \nmit Dr Birgit Kausch vom Natur- & Geopark Mëllerdall \n
URL:https://www.naturpark-mellerdall.lu/event/geologische-wanderung/
LOCATION:Fischbach\, Fischbach\, Luxemburg
CATEGORIES:Kultur,Region
ATTACH;FMTTYPE=image/jpeg:https://www.naturpark-mellerdall.lu/wp-content/uploads/2019/09/GeoWanderungcNGPM_BKausch.jpg
ORGANIZER;CN="Natur-%20%26%20Geopark%20M%C3%ABllerdall":MAILTO:info@naturpark-mellerdall.lu
END:VEVENT
BEGIN:VEVENT
DTSTART;TZID=Europe/Berlin:20200426T090000
DTEND;TZID=Europe/Berlin:20200426T130000
DTSTAMP:20200421T094121
CREATED:20190918T143332Z
LAST-MODIFIED:20200327T141002Z
UID:4948-1587891600-1587906000@www.naturpark-mellerdall.lu
SUMMARY:ABGESAGT! Pesto\, Pasten & Dips mit Kräutern (ausgebucht)
DESCRIPTION:Aufgrund der Coronapandemie ist dieses Event leider abgesagt. Wir bitten um Verständnis. \n  \nNach einer kurzen Kräuterwanderung verarbeiten wir die gesammelten Kräuter zu Pesto und Pasten. Selbstverständlich schmecken wir auch alles! \nPreis: 40 € \nmit den Kräuterpädagoginnen Sandra Leoni und Yolande Kails \n
URL:https://www.naturpark-mellerdall.lu/event/pesto-pasten-dips-mit-kraeutern/
LOCATION:Beaufort\, Beaufort\, Luxemburg
CATEGORIES:Kultur,Natur,Region
ATTACH;FMTTYPE=image/jpeg:https://www.naturpark-mellerdall.lu/wp-content/uploads/2019/09/PestoKraiderccc0pixabay.jpg
ORGANIZER;CN="Natur-%20%26%20Geopark%20M%C3%ABllerdall":MAILTO:info@naturpark-mellerdall.lu
END:VEVENT
BEGIN:VEVENT
DTSTART;TZID=Europe/Berlin:20200509T140000
DTEND;TZID=Europe/Berlin:20200509T173000
DTSTAMP:20200421T094121
CREATED:20190918T143611Z
LAST-MODIFIED:20200327T141041Z
UID:4953-1589032800-1589045400@www.naturpark-mellerdall.lu
SUMMARY:ABGESAGT! Naturrallye
DESCRIPTION:Aufgrund der Coronapandemie ist dieses Event leider abgesagt. Wir bitten um Verständnis. \n  \nKommt mit auf die „Insel“: auf der Hëlt in Rosport werden wir viele Beobachtungen in der Natur machen (Steine\, Boden und Pflanzen) und wir werden sehen\, wie der Mensch die Landschaft nutzt. \nPreis: 5 €\nab 6 Jahren \n
URL:https://www.naturpark-mellerdall.lu/event/naturrallye/
LOCATION:Rosport\, Rosport\, Luxemburg
CATEGORIES:Kids,Natur
ATTACH;FMTTYPE=image/jpeg:https://www.naturpark-mellerdall.lu/wp-content/uploads/2018/10/NaturrallyecNPM_ElinaZepp.jpg
ORGANIZER;CN="Natur-%20%26%20Geopark%20M%C3%ABllerdall":MAILTO:info@naturpark-mellerdall.lu
END:VEVENT
BEGIN:VEVENT
DTSTART;TZID=Europe/Berlin:20200510T100000
DTEND;TZID=Europe/Berlin:20200510T133000
DTSTAMP:20200421T094121
CREATED:20190918T144013Z
LAST-MODIFIED:20200327T141122Z
UID:4955-1589104800-1589117400@www.naturpark-mellerdall.lu
SUMMARY:ABGESAGT! Esel\, Ziege & Giersch
DESCRIPTION:Aufgrund der Coronapandemie ist dieses Event leider abgesagt. Wir bitten um Verständnis. \n  \nMit der Ziege Polly\, den Eseln Schakkeline\, Pablo & Co. und unterstützt von zwei Tierpädagoginnen wandern wir durch den schönen Beauforter Wald. Auf der Suche nach Giersch gibt die Kräuterpädagogin viele spannende Erklärungen. Unterwegs wird eine Pause eingelegt für ein gemütliches Picknick und zum Schluss gibt es eine kleine Gierschüberraschung! \nKinder müssen in Begleitung ihrer Eltern sein und es dürfen max. 2 Kinder pro Erwachsener mitgehen. \nBitte feste Schuhe anziehen und ein Picknick mitbringen. \nPreis: 15 € bis 12 Jahre; 30 €/Erwachsener\nab 6 Jahren \nmit den Tierpädagoginnen Conny Scholtes und Alex Trentin und der Kräuterpädagogin Sandra Leoni \n
URL:https://www.naturpark-mellerdall.lu/event/esel-ziege-giersch/
LOCATION:Beaufort\, Beaufort\, Luxemburg
CATEGORIES:Kids,Natur
ATTACH;FMTTYPE=image/jpeg:https://www.naturpark-mellerdall.lu/wp-content/uploads/2018/10/20180429_Iesel_Geess_Giersch_cAlex_Trentin9.jpeg
ORGANIZER;CN="Natur-%20%26%20Geopark%20M%C3%ABllerdall":MAILTO:info@naturpark-mellerdall.lu
END:VEVENT
BEGIN:VEVENT
DTSTART;TZID=Europe/Berlin:20200510T140000
DTEND;TZID=Europe/Berlin:20200510T170000
DTSTAMP:20200421T094121
CREATED:20190918T144456Z
LAST-MODIFIED:20200327T141213Z
UID:4957-1589119200-1589130000@www.naturpark-mellerdall.lu
SUMMARY:ABGESAGT! Trinkwasserwanderung
DESCRIPTION:Aufgrund der Coronapandemie ist dieses Event leider abgesagt. Wir bitten um Verständnis. \n  \nDer luxemburger Sandstein ist der wichtigste Trinkwasserspeicher im Müllerthal. Bei dieser Wanderung erfahren Sie alles über die Entstehung der Felsformationen und die Nutzung und den Schutz unseres Grundwassers – das Ganze natürlich vor der schönen Kulisse der Müllerthaler Felsen. \nBitte feste Schuhe anziehen. \nPreis: 5 € \nmit Rachel Krier vom natur- & Geopark Mëllerdall und Tom Schaul vom Wasserwirtschaftsamt \n
URL:https://www.naturpark-mellerdall.lu/event/trinkwasserwanderung/
LOCATION:Mullerthal\, Mullerthal\, Luxemburg
CATEGORIES:Natur,Region
ATTACH;FMTTYPE=image/jpeg:https://www.naturpark-mellerdall.lu/wp-content/uploads/2019/09/faucet-1684902_1920.jpg
ORGANIZER;CN="Natur-%20%26%20Geopark%20M%C3%ABllerdall":MAILTO:info@naturpark-mellerdall.lu
END:VEVENT
BEGIN:VEVENT
DTSTART;TZID=Europe/Berlin:20200516T100000
DTEND;TZID=Europe/Berlin:20200516T180000
DTSTAMP:20200421T094121
CREATED:20190919T072420Z
LAST-MODIFIED:20200312T103309Z
UID:4980-1589623200-1589652000@www.naturpark-mellerdall.lu
SUMMARY:Pflanzentauschbörse
DESCRIPTION:Hier können Sie Pflanzen tauschen! Ob Sie zuviele angezogen haben oder einfach neue Sorten entdecken wollen – hier finden Sie bestimmt das Richtige. Das Prinzip ist nicht kompliziert: Sie bringen Ihre „überflüssigen“ Gemüse-\, Obst- und Kräutersetzlinge mit und nehmen mit nach Hause was Ihnen gefällt. \nAlso vergessen Sie nicht im Frühling etwas mehr anzusäen damit möglichst viele verschiedene Pflänzchen zusammenkommen! \nBeim Stand des Fromburgerhof können Sie Setzlinge aus dessen Produktion kaufen. \nFür Speis und Trank ist selbstverständlich gesorgt. \nDie Teilnahme ist gratis. \nim Bistro Berdorfer Eck \n \n
URL:https://www.naturpark-mellerdall.lu/event/pflanzentauschboerse/
LOCATION:Berdorf\, Berdorf\, Luxemburg
CATEGORIES:Kids,Kultur,Natur,Region
ATTACH;FMTTYPE=image/jpeg:https://www.naturpark-mellerdall.lu/wp-content/uploads/2019/04/IMG_8701.jpg
ORGANIZER;CN="Natur-%20%26%20Geopark%20M%C3%ABllerdall":MAILTO:info@naturpark-mellerdall.lu
END:VEVENT
BEGIN:VEVENT
DTSTART;TZID=Europe/Berlin:20200516T133000
DTEND;TZID=Europe/Berlin:20200516T170000
DTSTAMP:20200421T094121
CREATED:20190919T085816Z
LAST-MODIFIED:20200131T074817Z
UID:4993-1589635800-1589648400@www.naturpark-mellerdall.lu
SUMMARY:Ein Nachmittag mit den Bienen
DESCRIPTION:In diesem Workshop wird das Leben der Bienen und des Imkers genauer untersucht. Sie erfahren\, wie ein Bienenstock aufgebaut ist\, wie das Volk funktioniert\, was die Arbeit des Imkers bedeutet und am Schluss können Sie auch ein Glas Honig mit nach Hause nehmen. Kinder sind herzlich willkommen! \nPreis: 10 € \nDiese Veranstaltung läuft in Zusammenarbeit mit der biologischen Station SIAS und der ANF. \n
URL:https://www.naturpark-mellerdall.lu/event/en-nachmittag-mit-den-bienen/
LOCATION:Echternach\, Echternach\, Luxemburg
CATEGORIES:Kids,Natur,Region
ATTACH;FMTTYPE=image/jpeg:https://www.naturpark-mellerdall.lu/wp-content/uploads/2018/10/c-Marc-Thiel-Nomette-bei-de-Beien.jpg
ORGANIZER;CN="Natur-%20%26%20Geopark%20M%C3%ABllerdall":MAILTO:info@naturpark-mellerdall.lu
END:VEVENT
BEGIN:VEVENT
DTSTART;VALUE=DATE:20200521
DTEND;VALUE=DATE:20200522
DTSTAMP:20200421T094121
CREATED:20190919T090418Z
LAST-MODIFIED:20191127T100837Z
UID:4995-1590019200-1590105599@www.naturpark-mellerdall.lu
SUMMARY:Offizieller Natura 2000 Tag
DESCRIPTION: \nEntdecken Sie eines unserer schönen Natura 2000 Gebiete bei einer spannenden Wanderung! \nDie Teilnahme ist gratis \nmit Judith Boveland vom Natur- & Geopark Mëllerdall \n
URL:https://www.naturpark-mellerdall.lu/event/offizieller-natura-2000-tag/
CATEGORIES:Natur,Region
ATTACH;FMTTYPE=image/jpeg:https://www.naturpark-mellerdall.lu/wp-content/uploads/2019/08/Pierre-HAAS-©-MULLERTHAL-SCHWAARZ-IERNZ_HAB9065.jpg
ORGANIZER;CN="Natur-%20%26%20Geopark%20M%C3%ABllerdall":MAILTO:info@naturpark-mellerdall.lu
END:VEVENT
BEGIN:VEVENT
DTSTART;VALUE=DATE:20200525
DTEND;VALUE=DATE:20200531
DTSTAMP:20200421T094121
CREATED:20190919T091103Z
LAST-MODIFIED:20200408T123835Z
UID:5003-1590364800-1590883199@www.naturpark-mellerdall.lu
SUMMARY:ABGESAGT! Natur- & Geoparkwoche
DESCRIPTION:Aufgrund der aktuellen Coronapandemie musste dieses Event leider abgesagt werden. Wir bitten um Ihr Verständnis. \n  \nEntdecken Sie die ganze Woche über viele Aktivitäten rund um die Themen des Natur- & Geoparks! \nDetailliertere Informationen kommen zu einem späteren Zeitpunkt nach. \n
URL:https://www.naturpark-mellerdall.lu/event/natur-geoparkwoche/
CATEGORIES:Diverse,Kids,Kultur,Natur,Region
ATTACH;FMTTYPE=image/jpeg:https://www.naturpark-mellerdall.lu/wp-content/uploads/2019/09/RS1590_06072019CaroLineM_88A02961270296-hpr.jpg
ORGANIZER;CN="Natur-%20%26%20Geopark%20M%C3%ABllerdall":MAILTO:info@naturpark-mellerdall.lu
END:VEVENT
BEGIN:VEVENT
DTSTART;TZID=Europe/Berlin:20200525T193000
DTEND;TZID=Europe/Berlin:20200525T213000
DTSTAMP:20200421T094121
CREATED:20190919T092150Z
LAST-MODIFIED:20200408T123406Z
UID:5017-1590435000-1590442200@www.naturpark-mellerdall.lu
SUMMARY:ABGESAGT! Vortrag: UNESCO Global Geoparks
DESCRIPTION:Aufgrund der Coronapandemie ist dieses Event leider abgesagt. Wir bitten um Verständnis. \n  \nHier erfahren Sie alles über die Kandidatur des Natur- & Geopark Mëllerdall für das UNESCO Global Geopark Label. Zudem erläutert Dr Birgit Kausch\, was unsere Region so besonders macht und wieso die Geologie auch heute noch sehr wichtig für uns alle ist. \nPreis: gratis \nDer Vortrag findet in der Burg Larochette statt. \nmit Dr Birgit Kausch vom Natur- & Geopark Mëllerdall \n
URL:https://www.naturpark-mellerdall.lu/event/vortrag-unesco-global-geoparks/
LOCATION:Larochette\, Larochette\, Luxemburg
CATEGORIES:Kultur,Natur,Region
ATTACH;FMTTYPE=image/jpeg:https://www.naturpark-mellerdall.lu/wp-content/uploads/2019/09/RS1559_18062019CaroLineM_88A37453173745-hpr.jpg
ORGANIZER;CN="Natur-%20%26%20Geopark%20M%C3%ABllerdall":MAILTO:info@naturpark-mellerdall.lu
END:VEVENT
BEGIN:VEVENT
DTSTART;TZID=Europe/Berlin:20200530T140000
DTEND;TZID=Europe/Berlin:20200530T170000
DTSTAMP:20200421T094121
CREATED:20190919T093828Z
LAST-MODIFIED:20191127T100507Z
UID:5032-1590847200-1590858000@www.naturpark-mellerdall.lu
SUMMARY:Scrapbooking
DESCRIPTION:Ein „Scrapbook“ ist mehr als ein Fotoalbum. Hier kommen nämlich nicht nur Fotos rein\, sondern auch andere Erinnerungen (Konzerttickets\, Stoffreste\, Federn etc)\, damit das vollendete Werk eine Geschichte erzählen kann. Verbringen Sie einen gemütlichen Nachmittag und gestalten Sie Ihr eigenes Scrapbook. \nBitte bringen Sie Fotos und andere Erinnerungsstücke mit\, die Sie in Ihr Scrapbook einfügen möchten. Sie können entweder ein Album mitbringen oder vor Ort eines kaufen. \nPreis: 30 € (inkl Kaffee und Kuchen) \nab 14:00\, Ende offen \nAnmeldungen bitte direkt an den Kulturhaff Millermoler: isip@pt.lu 53 27 73 \n
URL:https://www.naturpark-mellerdall.lu/event/scrapbooking/
LOCATION:Hinkel\, Hinkel\, Luxemburg
CATEGORIES:Kultur
ATTACH;FMTTYPE=image/jpeg:https://www.naturpark-mellerdall.lu/wp-content/uploads/2019/09/photo-256887_1920.jpg
ORGANIZER;CN="Kulturhaff%20Millermoler":MAILTO:isip@pt.lu
END:VEVENT
BEGIN:VEVENT
DTSTART;TZID=Europe/Berlin:20200613T100000
DTEND;TZID=Europe/Berlin:20200613T130000
DTSTAMP:20200421T094121
CREATED:20190919T094235Z
LAST-MODIFIED:20200320T141151Z
UID:5037-1592042400-1592053200@www.naturpark-mellerdall.lu
SUMMARY:Esel\, Ziegen & Kleintiere
DESCRIPTION:Erlebt einen schönen Nachmittag im Stall und lernt alles über den respektvollen Umgang mit Kleintieren\, Eseln und Ziegen. In verschiedenen kleinen Workshops könnt ihr entdecken wie man sie artgerecht hält und wie man sie pflegt. \nBitte zieht feste Schuhe an. \nPreis: 30 €\nab 6 Jahren \nmit den Tierpädagoginnen Conny Scholtes und Alex Trentin \n
URL:https://www.naturpark-mellerdall.lu/event/esel-ziegen-kleintiere/
LOCATION:Beaufort\, Beaufort\, Luxemburg
CATEGORIES:Kids,Kultur
ATTACH;FMTTYPE=image/jpeg:https://www.naturpark-mellerdall.lu/wp-content/uploads/2018/10/20180429_Klengdéieren_cAlex_Trentin3.jpeg
ORGANIZER;CN="Natur-%20%26%20Geopark%20M%C3%ABllerdall":MAILTO:info@naturpark-mellerdall.lu
END:VEVENT
BEGIN:VEVENT
DTSTART;TZID=Europe/Berlin:20200613T100000
DTEND;TZID=Europe/Berlin:20200613T150000
DTSTAMP:20200421T094121
CREATED:20190919T094722Z
LAST-MODIFIED:20200128T085141Z
UID:5039-1592042400-1592060400@www.naturpark-mellerdall.lu
SUMMARY:Küche im Wald (ausgebucht)
DESCRIPTION:Draußen kochen – ohne Strom oder Gas – das geht! Wenn Sie noch nie im Wald auf offenem Feuer gekocht haben\, dann haben Sie etwas verpasst! Der Förster zeigt in diesem Workshop\, wie’s geht und obendrauf gibt es natürlich auch viel zu verköstigen. \nPreis: 25 €/Erwachsener; 5 € bis 12 Jahre \nmit dem Förster Tom Scholtes \n
URL:https://www.naturpark-mellerdall.lu/event/kueche-im-wald/
LOCATION:Larochette\, Larochette\, Luxemburg
CATEGORIES:Kids,Kultur,Natur,Region
ATTACH;FMTTYPE=image/jpeg:https://www.naturpark-mellerdall.lu/wp-content/uploads/2019/09/KichenamBeschcCatherineThiry-2.jpg
ORGANIZER;CN="Natur-%20%26%20Geopark%20M%C3%ABllerdall":MAILTO:info@naturpark-mellerdall.lu
END:VEVENT
BEGIN:VEVENT
DTSTART;TZID=Europe/Berlin:20200620T133000
DTEND;TZID=Europe/Berlin:20200620T150000
DTSTAMP:20200421T094121
CREATED:20190919T095129Z
LAST-MODIFIED:20191127T095843Z
UID:5044-1592659800-1592665200@www.naturpark-mellerdall.lu
SUMMARY:Obstbaumschnitt: Spalierbäume
DESCRIPTION:Damit er viel schönes Obst trägt muss ein Spalierbaum regelmäßig zurückgeschnitten werden. Wie das geht lernen Sie in diesem Kurs. \nPreis: 5 € \nmit Marc Thiel von der biologischen Station SIAS \n
URL:https://www.naturpark-mellerdall.lu/event/obstbaumschnitt-spalierbaeume/
LOCATION:Waldbillig\, Waldbillig\, Luxemburg
CATEGORIES:Kultur,Natur,Region
ATTACH;FMTTYPE=image/jpeg:https://www.naturpark-mellerdall.lu/wp-content/uploads/2018/05/K1600_c-NPM-Spaléierbam.jpg
ORGANIZER;CN="Natur-%20%26%20Geopark%20M%C3%ABllerdall":MAILTO:info@naturpark-mellerdall.lu
END:VEVENT
BEGIN:VEVENT
DTSTART;TZID=Europe/Berlin:20200627T100000
DTEND;TZID=Europe/Berlin:20200627T150000
DTSTAMP:20200421T094121
CREATED:20190919T112421Z
LAST-MODIFIED:20190924T113850Z
UID:5047-1593252000-1593270000@www.naturpark-mellerdall.lu
SUMMARY:Küche im Wald (ausgebucht)
DESCRIPTION:Draußen kochen – ohne Strom oder Gas – das geht! Wenn Sie noch nie im Wald auf offenem Feuer gekocht haben\, dann haben Sie etwas verpasst! Der Förster zeigt in diesem Workshop\, wie’s geht und obendrauf gibt es natürlich auch viel zu verköstigen. \nPreis: 25 €/Erwachsener; 5 € bis 12 Jahre \nmit dem Förster Tom Scholtes \n
URL:https://www.naturpark-mellerdall.lu/event/kueche-im-wald-2/
LOCATION:Larochette\, Larochette\, Luxemburg
CATEGORIES:Kultur,Natur,Region
ATTACH;FMTTYPE=image/jpeg:https://www.naturpark-mellerdall.lu/wp-content/uploads/2019/09/KichenamBeschcCatherineThiry-11.jpg
ORGANIZER;CN="Natur-%20%26%20Geopark%20M%C3%ABllerdall":MAILTO:info@naturpark-mellerdall.lu
END:VEVENT
BEGIN:VEVENT
DTSTART;TZID=Europe/Berlin:20200628T080000
DTEND;TZID=Europe/Berlin:20200628T120000
DTSTAMP:20200421T094121
CREATED:20190919T112839Z
LAST-MODIFIED:20191127T095327Z
UID:5052-1593331200-1593345600@www.naturpark-mellerdall.lu
SUMMARY:Mit dem Mountainbike durch den Wald
DESCRIPTION:Gemeinsam mit Förster Marc Hoffmann und Mountainbikeguide Alphonse Haaker entdecken Sie die Wälder und das Natura2000 Gebiet um Beaufort. Diese Fahrt ist nicht für Anfänger geeignet: es geht über Waldwege mit großen Höhenunterschieden! \nBitte eigenes MTB und Picknick mitbringen. \nHelmpflicht!! \nPreis: 5 €\nab 18 Jahren \nmit dem Förster Marc Hoffmann und Mountainbikeguide Alphonse Haaker \n
URL:https://www.naturpark-mellerdall.lu/event/mit-dem-mountainbike-durch-den-wald/
LOCATION:Beaufort\, Beaufort\, Luxemburg
CATEGORIES:Natur,Region
ATTACH;FMTTYPE=image/jpeg:https://www.naturpark-mellerdall.lu/wp-content/uploads/2019/09/mountain-biking-1210066_19201.jpg
ORGANIZER;CN="Natur-%20%26%20Geopark%20M%C3%ABllerdall":MAILTO:info@naturpark-mellerdall.lu
END:VEVENT
BEGIN:VEVENT
DTSTART;TZID=Europe/Berlin:20200720T173000
DTEND;TZID=Europe/Berlin:20200724T203000
DTSTAMP:20200421T094121
CREATED:20190919T113147Z
LAST-MODIFIED:20191127T130032Z
UID:5057-1595266200-1595622600@www.naturpark-mellerdall.lu
SUMMARY:Weben à la carte
DESCRIPTION:Das Weben hat im Müllerthal eine lange Tradition. Besonders die Tuchindustrie in Larochette war bis über die Grenzen hinweg bekannt. Wenn auch Sie Lust haben dieses alte Handwerk zu entdecken\, dann können Sie in diesem Kurs ein eigenes Projekt umsetzen: egal ob Handtasche\, Schal\, Küchentuch oder etwas ganz anderes – unsere Expertin wird Sie gerne unterstützen! \nDer Abendkurs findet Montag bis Freitag von 17:30 bis 20:30 statt. \nPreis: 150 € (+ Material)\nab 15 Jahren \n
URL:https://www.naturpark-mellerdall.lu/event/weben-a-la-carte/
LOCATION:Echternach\, Echternach\, Luxemburg
CATEGORIES:Kultur,Region
ATTACH;FMTTYPE=image/jpeg:https://www.naturpark-mellerdall.lu/wp-content/uploads/2018/10/image1-e1540279360448.jpeg
ORGANIZER;CN="Natur-%20%26%20Geopark%20M%C3%ABllerdall":MAILTO:info@naturpark-mellerdall.lu
END:VEVENT
BEGIN:VEVENT
DTSTART;TZID=Europe/Luxembourg:20200725T100000
DTEND;TZID=Europe/Luxembourg:20200725T130000
DTSTAMP:20200421T094121
CREATED:20190919T113757Z
LAST-MODIFIED:20200115T145932Z
UID:5059-1595671200-1595682000@www.naturpark-mellerdall.lu
SUMMARY:Vom Blatt zur Wurzel: ungewöhnliche Gemüseküche
DESCRIPTION:In diesem Kurs kochen Sie mit alten Gemüsesorten\, die nicht mehr sehr bekannt sind\, Wildkräutern\, die überall wachsen und Gemüseteilen\, die normalerweise im Kompost landen. Lassen Sie sich überraschen\, wie gut diese weniger bekannten Sachen schmecken! Gekocht wird direkt auf dem Feuer im Generationsgarten. Anschließend wird gemeinsam alles verköstigt. Gemüse und Kräuter kommen selbstverständlich direkt aus dem Generationsgarten. \nPreis: 25 €\nab 12 Jahren \nmit Annick Feipel vom Generatiounsgaart Beefort \n
URL:https://www.naturpark-mellerdall.lu/event/vom-blatt-zur-wurzel-ungewoehnliche-gemuesekueche/
LOCATION:Beaufort\, Beaufort\, Luxemburg
CATEGORIES:Kultur,Natur,Region
ATTACH;FMTTYPE=image/jpeg:https://www.naturpark-mellerdall.lu/wp-content/uploads/2019/09/BlatzurWuerzelccc0pixabay.jpg
ORGANIZER;CN="Natur-%20%26%20Geopark%20M%C3%ABllerdall":MAILTO:info@naturpark-mellerdall.lu
END:VEVENT
END:VCALENDAR