BEGIN:VCALENDAR
VERSION:2.0
PRODID:-//Natur- &amp; Geopark Mëllerdall - ECPv5.5.0//NONSGML v1.0//EN
CALSCALE:GREGORIAN
METHOD:PUBLISH
X-WR-CALNAME:Natur- &amp; Geopark Mëllerdall
X-ORIGINAL-URL:https://www.naturpark-mellerdall.lu
X-WR-CALDESC:Veranstaltungen für Natur- &amp; Geopark Mëllerdall
BEGIN:VTIMEZONE
TZID:Europe/Luxembourg
BEGIN:DAYLIGHT
TZOFFSETFROM:+0100
TZOFFSETTO:+0200
TZNAME:CEST
DTSTART:20210328T010000
END:DAYLIGHT
BEGIN:STANDARD
TZOFFSETFROM:+0200
TZOFFSETTO:+0100
TZNAME:CET
DTSTART:20211031T010000
END:STANDARD
END:VTIMEZONE
BEGIN:VEVENT
DTSTART;TZID=Europe/Luxembourg:20210206T090000
DTEND;TZID=Europe/Luxembourg:20210206T120000
DTSTAMP:20210425T034214
CREATED:20200929T093954Z
LAST-MODIFIED:20210126T120932Z
UID:7744-1612602000-1612612800@www.naturpark-mellerdall.lu
SUMMARY:AUSGEBUCHT! Upcycling: eine Tischlampe bauen
DESCRIPTION:Wenn auch Sie die ideale Tischlampe suchen\, dann ist dieser Kurs genau das Richtige! Im Berdorfer Eck zeigt Ihnen Christiane Francisco vom Natur- & Geopark\, wie Sie selber eine Tischlampe aus gebrauchten Materialien bauen können. \nAb 18 Jahren \nMitbringen: T-Shirt/Stoff für den Lampenschirm\, Glasflasche als Ständer \n6.2. \n9:00-12:00 \nBerdorf \n30 € \nAnmeldungen bitte an: info@naturpark-mellerdall.lu oder 26 87 82 91
URL:https://www.naturpark-mellerdall.lu/event/upcycling-eine-tischlampe-bauen/
LOCATION:Berdorf\, Berdorf\, Luxemburg
CATEGORIES:Kultur,Region
ATTACH;FMTTYPE=image/jpeg:https://www.naturpark-mellerdall.lu/wp-content/uploads/2020/09/LuuchtcNGPMElinaZepp.jpg
ORGANIZER;CN="Natur-%20%26%20Geopark%20M%C3%ABllerdall":MAILTO:info@naturpark-mellerdall.lu
END:VEVENT
END:VCALENDAR