BEGIN:VCALENDAR
VERSION:2.0
PRODID:-//Natur- &amp; Geopark Mëllerdall - ECPv5.5.0//NONSGML v1.0//EN
CALSCALE:GREGORIAN
METHOD:PUBLISH
X-WR-CALNAME:Natur- &amp; Geopark Mëllerdall
X-ORIGINAL-URL:https://www.naturpark-mellerdall.lu
X-WR-CALDESC:Veranstaltungen für Natur- &amp; Geopark Mëllerdall
BEGIN:VTIMEZONE
TZID:Europe/Luxembourg
BEGIN:DAYLIGHT
TZOFFSETFROM:+0100
TZOFFSETTO:+0200
TZNAME:CEST
DTSTART:20210328T010000
END:DAYLIGHT
BEGIN:STANDARD
TZOFFSETFROM:+0200
TZOFFSETTO:+0100
TZNAME:CET
DTSTART:20211031T010000
END:STANDARD
END:VTIMEZONE
BEGIN:VEVENT
DTSTART;TZID=Europe/Luxembourg:20210220T090000
DTEND;TZID=Europe/Luxembourg:20210220T170000
DTSTAMP:20210425T034227
CREATED:20200929T093135Z
LAST-MODIFIED:20201005T115546Z
UID:7732-1613811600-1613840400@www.naturpark-mellerdall.lu
SUMMARY:Flechtbank
DESCRIPTION:Gemeinsam mit der Schreinerei Thomé bauen Sie eine Bank. Damit diese Bank aber auch zur Flechtbank wird\, muss noch eine Drehbank darauf installiert werden. Auf dieser Bank können Sie dann bequem Körbe flechten! Achtung: handwerkliches Geschick ist notwendig! Die Kurse „Vom Baum zum Brett“ und „Korbflechtkurs“ könnten Sie auch interessieren. \nMitbringen: Bleistift\, Meter \n20.2. \n9:00-17:00 \nSteinheim \n290 € \nAnmeldungen bitte an: info@naturpark-mellerdall.lu oder 26 87 82 91
URL:https://www.naturpark-mellerdall.lu/event/flechtbank/
LOCATION:Steinheim\, Steinheim\, Luxemburg
CATEGORIES:Kultur,Region
ATTACH;FMTTYPE=image/jpeg:https://www.naturpark-mellerdall.lu/wp-content/uploads/2020/09/FlechtbankcGabi-Jacque.jpg
ORGANIZER;CN="Natur-%20%26%20Geopark%20M%C3%ABllerdall":MAILTO:info@naturpark-mellerdall.lu
END:VEVENT
END:VCALENDAR