BEGIN:VCALENDAR
VERSION:2.0
PRODID:-//Natur- &amp; Geopark Mëllerdall - ECPv5.5.0//NONSGML v1.0//EN
CALSCALE:GREGORIAN
METHOD:PUBLISH
X-WR-CALNAME:Natur- &amp; Geopark Mëllerdall
X-ORIGINAL-URL:https://www.naturpark-mellerdall.lu
X-WR-CALDESC:Veranstaltungen für Natur- &amp; Geopark Mëllerdall
BEGIN:VTIMEZONE
TZID:Europe/Luxembourg
BEGIN:DAYLIGHT
TZOFFSETFROM:+0100
TZOFFSETTO:+0200
TZNAME:CEST
DTSTART:20210328T010000
END:DAYLIGHT
BEGIN:STANDARD
TZOFFSETFROM:+0200
TZOFFSETTO:+0100
TZNAME:CET
DTSTART:20211031T010000
END:STANDARD
END:VTIMEZONE
BEGIN:VEVENT
DTSTART;TZID=Europe/Luxembourg:20210612T140000
DTEND;TZID=Europe/Luxembourg:20210612T173000
DTSTAMP:20210425T034403
CREATED:20200928T151328Z
LAST-MODIFIED:20201005T111128Z
UID:7564-1623506400-1623519000@www.naturpark-mellerdall.lu
SUMMARY:Geologische Rollstuhlwanderung
DESCRIPTION:Gemeinsam mit unserer Geografin Birgit Kausch entdecken Sie den Wald „Ierelchen“ auf dem Plateau in Echternach. Bei dieser Wanderung\, die ca 3.6 km über einen barrierefreien Weg führt\, entdecken Sie die Geologie unserer Region. \n12.6. \n14:00-17:30 \nEchternach \n5 € \nAnmeldungen bitte an: info@naturpark-mellerdall.lu oder 26 87 82 91
URL:https://www.naturpark-mellerdall.lu/event/geologische-rollstuhlwanderung/
LOCATION:Echternach\, Echternach\, Luxemburg
CATEGORIES:Natur,Region
ATTACH;FMTTYPE=image/jpeg:https://www.naturpark-mellerdall.lu/wp-content/uploads/2020/09/wanderncNGPMAnnaVoelske-1-scaled.jpg
ORGANIZER;CN="Natur-%20%26%20Geopark%20M%C3%ABllerdall":MAILTO:info@naturpark-mellerdall.lu
END:VEVENT
END:VCALENDAR