BEGIN:VCALENDAR
VERSION:2.0
PRODID:-//Natur- &amp; Geopark Mëllerdall - ECPv5.5.0//NONSGML v1.0//EN
CALSCALE:GREGORIAN
METHOD:PUBLISH
X-WR-CALNAME:Natur- &amp; Geopark Mëllerdall
X-ORIGINAL-URL:https://www.naturpark-mellerdall.lu/fr/
X-WR-CALDESC:évènements pour Natur- &amp; Geopark Mëllerdall
BEGIN:VTIMEZONE
TZID:Europe/Luxembourg
BEGIN:DAYLIGHT
TZOFFSETFROM:+0100
TZOFFSETTO:+0200
TZNAME:CEST
DTSTART:20200329T010000
END:DAYLIGHT
BEGIN:STANDARD
TZOFFSETFROM:+0200
TZOFFSETTO:+0100
TZNAME:CET
DTSTART:20201025T010000
END:STANDARD
END:VTIMEZONE
BEGIN:VEVENT
DTSTART;TZID=Europe/Luxembourg:20200919T140000
DTEND;TZID=Europe/Luxembourg:20200919T160000
DTSTAMP:20210426T183620
CREATED:20200825T131643Z
LAST-MODIFIED:20200825T132753Z
UID:7088-1600524000-1600531200@www.naturpark-mellerdall.lu
SUMMARY:Cor de chasse
DESCRIPTION:Que vous soyez débutant ou expert\, tout le monde est le bienvenu ici! \nPrélude (19.9.): Qu’est-ce qu’un cor de chasse\, quels types y a-t-il et comment sonnent-ils? Après la présentation\, vous pouvez écouter encore un concert. \n4 répétitions: Avec Nicole Bertemes et John Mühlen\, nous apprenons à connaître le cor de chasse. Ici\, nous pratiquons et jouons ensemble dans une ambiance chaleureuse. Les dates sont fixées ensemble. \nDébut: 14: 00-16: 00\, à partir de 14 ans\, 5 € \n4 échantillons: à partir de 14 ans\, 25 € \nIl y a quelques cors de chasse disponibles en location. \nVeuillez vous inscrire au 26 87 82 91 ou info@naturpark-mellerdall.lu.
URL:https://www.naturpark-mellerdall.lu/fr/event/jagdhorn/
LOCATION:Nommern\, Nommern\, Luxemburg
CATEGORIES:Kultur
ATTACH;FMTTYPE=image/jpeg:https://www.naturpark-mellerdall.lu/wp-content/uploads/2020/08/Jagdhornccc0Pixabay.jpg
ORGANIZER;CN="Natur-%20%26%20Geopark%20M%C3%ABllerdall":MAILTO:info@naturpark-mellerdall.lu
END:VEVENT
END:VCALENDAR