BEGIN:VCALENDAR
VERSION:2.0
PRODID:-//Natur- &amp; Geopark Mëllerdall - ECPv5.5.0//NONSGML v1.0//EN
CALSCALE:GREGORIAN
METHOD:PUBLISH
X-WR-CALNAME:Natur- &amp; Geopark Mëllerdall
X-ORIGINAL-URL:https://www.naturpark-mellerdall.lu/fr/
X-WR-CALDESC:évènements pour Natur- &amp; Geopark Mëllerdall
BEGIN:VTIMEZONE
TZID:Europe/Luxembourg
BEGIN:DAYLIGHT
TZOFFSETFROM:+0100
TZOFFSETTO:+0200
TZNAME:CEST
DTSTART:20210328T010000
END:DAYLIGHT
BEGIN:STANDARD
TZOFFSETFROM:+0200
TZOFFSETTO:+0100
TZNAME:CET
DTSTART:20211031T010000
END:STANDARD
END:VTIMEZONE
BEGIN:VEVENT
DTSTART;TZID=Europe/Luxembourg:20210320T133000
DTEND;TZID=Europe/Luxembourg:20210320T170000
DTSTAMP:20210423T182230
CREATED:20200929T072804Z
LAST-MODIFIED:20210118T095807Z
UID:7655-1616247000-1616259600@www.naturpark-mellerdall.lu
SUMMARY:COMPLET! Taille d'arbres fruitiers: vieux arbres
DESCRIPTION:Pour que vos arbres fruitiers restent en bonne santé et continuent de produire beaucoup de bons fruits\, ils doivent être taillés régulièrement. Marc Thiel de SIAS vous montrera comment faire cela correctement. \n20.3. \n13:30-17:00 \nHeffingen \n5 € \nVeuillez vous inscrire à: info@naturpark-mellerdall.lu ou 26 87 82 91 \nNotre cours sur la taille d’arbres en espalier pourrait vous intéresser aussi!
URL:https://www.naturpark-mellerdall.lu/fr/event/obstbaumschnitt-alte-baeume-2/
LOCATION:Heffingen\, Heffingen\, Luxemburg
CATEGORIES:Kultur,Natur,Region
ATTACH;FMTTYPE=image/jpeg:https://www.naturpark-mellerdall.lu/wp-content/uploads/2020/09/Obstbaum-DetailcNGPM_AnnaVoelske-3-scaled.jpg
ORGANIZER;CN="Natur-%20%26%20Geopark%20M%C3%ABllerdall":MAILTO:info@naturpark-mellerdall.lu
END:VEVENT
END:VCALENDAR