BEGIN:VCALENDAR
VERSION:2.0
PRODID:-//Natur- &amp; Geopark Mëllerdall - ECPv5.5.0//NONSGML v1.0//EN
CALSCALE:GREGORIAN
METHOD:PUBLISH
X-WR-CALNAME:Natur- &amp; Geopark Mëllerdall
X-ORIGINAL-URL:https://www.naturpark-mellerdall.lu/fr/
X-WR-CALDESC:évènements pour Natur- &amp; Geopark Mëllerdall
BEGIN:VTIMEZONE
TZID:Europe/Luxembourg
BEGIN:DAYLIGHT
TZOFFSETFROM:+0100
TZOFFSETTO:+0200
TZNAME:CEST
DTSTART:20210328T010000
END:DAYLIGHT
BEGIN:STANDARD
TZOFFSETFROM:+0200
TZOFFSETTO:+0100
TZNAME:CET
DTSTART:20211031T010000
END:STANDARD
END:VTIMEZONE
BEGIN:VEVENT
DTSTART;TZID=Europe/Luxembourg:20210626T140000
DTEND;TZID=Europe/Luxembourg:20210626T160000
DTSTAMP:20210423T104531
CREATED:20201006T071134Z
LAST-MODIFIED:20210329T080046Z
UID:8006-1624716000-1624723200@www.naturpark-mellerdall.lu
SUMMARY:COMPLET! Taille d'arbres fruitiers: arbres en espalier
DESCRIPTION:Les arbres en espalier doivent également être coupés régulièrement pour qu’ils portent de bons fruits. Marc Thiel du SIAS vous montrera comment cela se fait dans ce cours. \n26.6. \n14:00-16:00 \nWaldbillig \n5 € \nVeuillez vous inscrire à: info@naturpark-mellerdall.lu ou 26 87 82 91
URL:https://www.naturpark-mellerdall.lu/fr/event/obstbaumschnitt-spalierbaeume-2/
LOCATION:Waldbillig\, Waldbillig\, Luxemburg
CATEGORIES:Kultur,Natur,Region
ATTACH;FMTTYPE=image/jpeg:https://www.naturpark-mellerdall.lu/wp-content/uploads/2018/05/K1600_c-NPM-Spaléierbam.jpg
ORGANIZER;CN="Natur-%20%26%20Geopark%20M%C3%ABllerdall":MAILTO:info@naturpark-mellerdall.lu
END:VEVENT
END:VCALENDAR