BEGIN:VCALENDAR
VERSION:2.0
PRODID:-//Natur- &amp; Geopark Mëllerdall - ECPv5.9.0//NONSGML v1.0//EN
CALSCALE:GREGORIAN
METHOD:PUBLISH
X-WR-CALNAME:Natur- &amp; Geopark Mëllerdall
X-ORIGINAL-URL:https://www.naturpark-mellerdall.lu/fr/
X-WR-CALDESC:évènements pour Natur- &amp; Geopark Mëllerdall
BEGIN:VTIMEZONE
TZID:Europe/Luxembourg
BEGIN:DAYLIGHT
TZOFFSETFROM:+0100
TZOFFSETTO:+0200
TZNAME:CEST
DTSTART:20220327T010000
END:DAYLIGHT
BEGIN:STANDARD
TZOFFSETFROM:+0200
TZOFFSETTO:+0100
TZNAME:CET
DTSTART:20221030T010000
END:STANDARD
END:VTIMEZONE
BEGIN:VEVENT
DTSTART;TZID=Europe/Luxembourg:20220225T190000
DTEND;TZID=Europe/Luxembourg:20220225T190000
DTSTAMP:20211009T162844
CREATED:20210929T093709Z
LAST-MODIFIED:20210929T101244Z
UID:13746-1645815600-1645815600@www.naturpark-mellerdall.lu
SUMMARY:Greffage d'arbres fruitiers
DESCRIPTION:Copier-coller dans le verger? Cela fonctionne! Dans ce cours\, Wolfgang Schmitz de la pépinière vous montre comment bien greffer un arbre fruitier. Après le cours\, vous pouvez emporter votre arbre greffé chez vous! \nÀ partir de 12 ans \nApportez: couteau pour greffer (si vous en avez un) \n25.2. \n19:00-22:00 \nBerdorf \n20 € \nVeuillez vous inscrire à: info@naturpark-mellerdall.lu ou 26 87 82 91 \nCes cours pourraient vous intéresser aussi: \nTaille d’arbres fruitiers: jeunes arbres (LU) \nTaille d’arbres fruitiers: jeunes arbres (FR) \nTaille d’arbres fruitiers: vieux arbres \nTaille d’arbres fruitiers: arbres en espalier
URL:https://www.naturpark-mellerdall.lu/fr/event/obstbaumveredelung/
LOCATION:Berdorf\, Berdorf\, Luxemburg
CATEGORIES:Kultur,Natur,Region
ATTACH;FMTTYPE=image/jpeg:https://www.naturpark-mellerdall.lu/wp-content/uploads/2018/10/c-NPM-Praffcours-2.jpg
END:VEVENT
END:VCALENDAR