BEGIN:VCALENDAR
VERSION:2.0
PRODID:-//Natur- &amp; Geopark Mëllerdall - ECPv5.5.0//NONSGML v1.0//EN
CALSCALE:GREGORIAN
METHOD:PUBLISH
X-WR-CALNAME:Natur- &amp; Geopark Mëllerdall
X-ORIGINAL-URL:https://www.naturpark-mellerdall.lu/fr/
X-WR-CALDESC:évènements pour Natur- &amp; Geopark Mëllerdall
BEGIN:VTIMEZONE
TZID:Europe/Luxembourg
BEGIN:DAYLIGHT
TZOFFSETFROM:+0100
TZOFFSETTO:+0200
TZNAME:CEST
DTSTART:20210328T010000
END:DAYLIGHT
BEGIN:STANDARD
TZOFFSETFROM:+0200
TZOFFSETTO:+0100
TZNAME:CET
DTSTART:20211031T010000
END:STANDARD
END:VTIMEZONE
BEGIN:VEVENT
DTSTART;TZID=Europe/Luxembourg:20210423T190000
DTEND;TZID=Europe/Luxembourg:20210423T213000
DTSTAMP:20210423T104451
CREATED:20200928T160907Z
LAST-MODIFIED:20210329T075623Z
UID:7625-1619204400-1619213400@www.naturpark-mellerdall.lu
SUMMARY:ANNULLE: Dégustation d'eaux-de-vie
DESCRIPTION:Dans le Natur- & Geopark Mëllerdall\, il y a une grande diversité dans les vergers et donc bien sûr dans les verres à eaux-de-vie aussi! Dans la distillerie Tudorsgeeschter\, vous pourrez déguster nos eaux-de-vie régionales avec le sommelier Paul Thill et découvrir tout ce qui est important de savoir. Vous pouvez également voir comment les eaux-de-vie passent de l’arbre dans le verres. À la fin\, on va manger un casse-croûte ensemble. \nÀ partir de 18 ans \n23.4. \n19: 00-21: 30 \nRosport \n42 € \nVeuillez vous inscrire à: info@naturpark-mellerdall.lu ou 26 87 82 91
URL:https://www.naturpark-mellerdall.lu/fr/event/schnapsverkostung/
LOCATION:Rosport\, Rosport\, Luxemburg
CATEGORIES:Kultur,Natur,Region
ATTACH;FMTTYPE=image/jpeg:https://www.naturpark-mellerdall.lu/wp-content/uploads/2018/10/P1020157.jpg
ORGANIZER;CN="Natur-%20%26%20Geopark%20M%C3%ABllerdall":MAILTO:info@naturpark-mellerdall.lu
END:VEVENT
END:VCALENDAR