BEGIN:VCALENDAR
VERSION:2.0
PRODID:-//Natur- &amp; Geopark Mëllerdall - ECPv5.5.0//NONSGML v1.0//EN
CALSCALE:GREGORIAN
METHOD:PUBLISH
X-WR-CALNAME:Natur- &amp; Geopark Mëllerdall
X-ORIGINAL-URL:https://www.naturpark-mellerdall.lu/fr/
X-WR-CALDESC:évènements pour Natur- &amp; Geopark Mëllerdall
BEGIN:VTIMEZONE
TZID:Europe/Luxembourg
BEGIN:DAYLIGHT
TZOFFSETFROM:+0100
TZOFFSETTO:+0200
TZNAME:CEST
DTSTART:20210328T010000
END:DAYLIGHT
BEGIN:STANDARD
TZOFFSETFROM:+0200
TZOFFSETTO:+0100
TZNAME:CET
DTSTART:20211031T010000
END:STANDARD
END:VTIMEZONE
BEGIN:VEVENT
DTSTART;TZID=Europe/Luxembourg:20210424T080000
DTEND;TZID=Europe/Luxembourg:20210424T110000
DTSTAMP:20210423T104657
CREATED:20200928T155951Z
LAST-MODIFIED:20210329T075806Z
UID:7616-1619251200-1619262000@www.naturpark-mellerdall.lu
SUMMARY:COMPLET: Randonnée oiseaux pour personnes aveugles et mal voyantes
DESCRIPTION:Au cours d’une randonnée d’environ 3\,6 km\, découvrez quels oiseaux gazouillent autour de nous et savourez les bruits de la forêt le matin. Mikis Bastian du Natur- & Geopark Mëllerdall est lui-même un passionné d’oiseaux et dirigera la randonnée. Le chemin est plat et accessible à tous. \n24.4. \n8:00-11:00 \nEchternach \n5 € \nVeuillez vous inscrire à: info@naturpark-mellerdall.lu ou 26 87 82 91
URL:https://www.naturpark-mellerdall.lu/fr/event/vogelwanderung-fuer-blinde-und-sehbeeintraechtigte-personen/
LOCATION:Echternach\, Echternach\, Luxemburg
CATEGORIES:Natur,Region
ATTACH;FMTTYPE=image/jpeg:https://www.naturpark-mellerdall.lu/wp-content/uploads/2020/09/Kleiberccc0Pixabay.jpg
ORGANIZER;CN="Natur-%20%26%20Geopark%20M%C3%ABllerdall":MAILTO:info@naturpark-mellerdall.lu
END:VEVENT
END:VCALENDAR