BEGIN:VCALENDAR
VERSION:2.0
PRODID:-//Natur- &amp; Geopark Mëllerdall - ECPv5.5.0//NONSGML v1.0//EN
CALSCALE:GREGORIAN
METHOD:PUBLISH
X-WR-CALNAME:Natur- &amp; Geopark Mëllerdall
X-ORIGINAL-URL:https://www.naturpark-mellerdall.lu/fr/
X-WR-CALDESC:évènements pour Natur- &amp; Geopark Mëllerdall
BEGIN:VTIMEZONE
TZID:Europe/Luxembourg
BEGIN:DAYLIGHT
TZOFFSETFROM:+0100
TZOFFSETTO:+0200
TZNAME:CEST
DTSTART:20210328T010000
END:DAYLIGHT
BEGIN:STANDARD
TZOFFSETFROM:+0200
TZOFFSETTO:+0100
TZNAME:CET
DTSTART:20211031T010000
END:STANDARD
END:VTIMEZONE
BEGIN:VEVENT
DTSTART;TZID=Europe/Luxembourg:20210417T140000
DTEND;TZID=Europe/Luxembourg:20210417T170000
DTSTAMP:20210423T181309
CREATED:20200928T161652Z
LAST-MODIFIED:20210329T075341Z
UID:7634-1618668000-1618678800@www.naturpark-mellerdall.lu
SUMMARY:COMPLET: Randonnée dans la réserve forestière intégrale Hierberbësch
DESCRIPTION:Une réserve forestière intégrale (RFI) est une forêt dans laquelle on laisse libre cours à la succession naturelle. Il n’y a pas de travaux et pas de rangement (sauf pour sécuriser les sentiers de randonnée). Venez faire une belle randonnée avec les forestiers Tom Giefer et Luc Etringer et apprenez comment fonctionne une telle forêt et quels en sont ses avantages! \nApportez: des chaussures solides \n17.4. \n14:00-17:00 \nHerborn \n5 € \nVeuillez vous inscrire à: info@naturpark-mellerdall.lu ou 26 87 82 91 \nNotre évènement “De l’arbre à la planche” pourrait aussi vous intéresser!
URL:https://www.naturpark-mellerdall.lu/fr/event/wanderung-durch-das-naturwaldreservat-hierberbesch-2/
LOCATION:Herborn\, Herborn\, Luxemburg
CATEGORIES:Natur,Region
ATTACH;FMTTYPE=image/jpeg:https://www.naturpark-mellerdall.lu/wp-content/uploads/2019/09/WanderungHierbercPierreHAAS.jpg
END:VEVENT
END:VCALENDAR