BEGIN:VCALENDAR
VERSION:2.0
PRODID:-//Natur- &amp; Geopark Mëllerdall - ECPv5.5.0//NONSGML v1.0//EN
CALSCALE:GREGORIAN
METHOD:PUBLISH
X-WR-CALNAME:Natur- &amp; Geopark Mëllerdall
X-ORIGINAL-URL:https://www.naturpark-mellerdall.lu/fr/
X-WR-CALDESC:évènements pour Natur- &amp; Geopark Mëllerdall
BEGIN:VTIMEZONE
TZID:Europe/Luxembourg
BEGIN:DAYLIGHT
TZOFFSETFROM:+0100
TZOFFSETTO:+0200
TZNAME:CEST
DTSTART:20200329T010000
END:DAYLIGHT
BEGIN:STANDARD
TZOFFSETFROM:+0200
TZOFFSETTO:+0100
TZNAME:CET
DTSTART:20201025T010000
END:STANDARD
END:VTIMEZONE
BEGIN:VEVENT
DTSTART;TZID=Europe/Luxembourg:20200919T100000
DTEND;TZID=Europe/Luxembourg:20200920T180000
DTSTAMP:20210426T183552
CREATED:20200914T131455Z
LAST-MODIFIED:20200914T132141Z
UID:7295-1600509600-1600624800@www.naturpark-mellerdall.lu
SUMMARY:Fête des prunes
DESCRIPTION:Depuis quelques années\, la fête des prunes (« Quetschefest ») à Cruchten est organisée par l’Amicale Pompjeeën de la municipalité de Nommern. Malgré les circonstances causées par le COVID-19\, le festival aura lieu cette année\, mais sous une forme différente de celle d’habitude. \nAfin de respecter les mesures d’hygiène\, le festival s’étendra sur deux week-ends et se déroulera dans un cadre plus petit que d’habitude.  Seul le « Quetschekraut »\, fraîchement cuit sur place\, sera vendu\, ainsi que certains autres produits à base de prune. La vente aura lieu le 12 & 13 septembre et le 19 & 20 septembre entre 10h00 et 18h00 devant la caserne des pompiers de Cruchten.
URL:https://www.naturpark-mellerdall.lu/fr/event/zwetschgenfest/
LOCATION:Cruchten\, Cruchten\, Luxemburg
CATEGORIES:Kultur,Region
ATTACH;FMTTYPE=image/jpeg:https://www.naturpark-mellerdall.lu/wp-content/uploads/2020/09/Quetschefest_Cruchten_Logo.jpg
END:VEVENT
END:VCALENDAR