BEGIN:VCALENDAR
VERSION:2.0
PRODID:-//Natur- &amp; Geopark Mëllerdall - ECPv5.5.0//NONSGML v1.0//EN
CALSCALE:GREGORIAN
METHOD:PUBLISH
X-WR-CALNAME:Natur- &amp; Geopark Mëllerdall
X-ORIGINAL-URL:https://www.naturpark-mellerdall.lu/fr/
X-WR-CALDESC:évènements pour Natur- &amp; Geopark Mëllerdall
BEGIN:VTIMEZONE
TZID:Europe/Luxembourg
BEGIN:DAYLIGHT
TZOFFSETFROM:+0100
TZOFFSETTO:+0200
TZNAME:CEST
DTSTART:20210328T010000
END:DAYLIGHT
BEGIN:STANDARD
TZOFFSETFROM:+0200
TZOFFSETTO:+0100
TZNAME:CET
DTSTART:20211031T010000
END:STANDARD
END:VTIMEZONE
BEGIN:VEVENT
DTSTART;TZID=Europe/Luxembourg:20210312T090000
DTEND;TZID=Europe/Luxembourg:20210313T170000
DTSTAMP:20210423T181413
CREATED:20200929T075900Z
LAST-MODIFIED:20201005T115436Z
UID:7681-1615539600-1615654800@www.naturpark-mellerdall.lu
SUMMARY:Petite serre
DESCRIPTION:Dans ce cours\, vous construirez une serre (environ 1\,40 x 0\,60 m) en bois massif avec le menuisier Robi Baden. La plate-bande et le toit sont construits de manière totalement indépendante. Attention: des compétences manuelles sont nécessaires! Vous pourriez également être intéressé par le cours «De l’arbre à la planche»! \nÀ partir de 18 ans \nQuoi apporter: crayon\, mètre \n12.+13.3. \n9:00-17:00 \nWaldbillig \n600 € \nVeuillez vous inscrire à: info@naturpark-mellerdall.lu ou 26 87 82 91
URL:https://www.naturpark-mellerdall.lu/fr/event/kleines-gewaechshaus/
LOCATION:Waldbillig\, Waldbillig\, Luxemburg
CATEGORIES:Kultur,Region
ATTACH;FMTTYPE=image/jpeg:https://www.naturpark-mellerdall.lu/wp-content/uploads/2020/09/klengZaerccc0Pixabay.jpg
ORGANIZER;CN="Natur-%20%26%20Geopark%20M%C3%ABllerdall":MAILTO:info@naturpark-mellerdall.lu
END:VEVENT
END:VCALENDAR