BEGIN:VCALENDAR
VERSION:2.0
PRODID:-//Natur- &amp; Geopark Mëllerdall - ECPv5.5.0//NONSGML v1.0//EN
CALSCALE:GREGORIAN
METHOD:PUBLISH
X-WR-CALNAME:Natur- &amp; Geopark Mëllerdall
X-ORIGINAL-URL:https://www.naturpark-mellerdall.lu/fr/
X-WR-CALDESC:évènements pour Natur- &amp; Geopark Mëllerdall
BEGIN:VTIMEZONE
TZID:Europe/Luxembourg
BEGIN:DAYLIGHT
TZOFFSETFROM:+0100
TZOFFSETTO:+0200
TZNAME:CEST
DTSTART:20210328T010000
END:DAYLIGHT
BEGIN:STANDARD
TZOFFSETFROM:+0200
TZOFFSETTO:+0100
TZNAME:CET
DTSTART:20211031T010000
END:STANDARD
END:VTIMEZONE
BEGIN:VEVENT
DTSTART;TZID=Europe/Luxembourg:20210515T100000
DTEND;TZID=Europe/Luxembourg:20210515T150000
DTSTAMP:20210423T181509
CREATED:20200928T153420Z
LAST-MODIFIED:20201027T101253Z
UID:7595-1621072800-1621090800@www.naturpark-mellerdall.lu
SUMMARY:COMPLET - Atelier: Herbes
DESCRIPTION:Dans et autour du jardin des générations à Beaufort\, nous découvrons des herbes sauvages\, que nous apprenons à connaître et à déterminer dans un premier atelier. Ensuite les herbes sont séchées et transformées en huile végétale\, à partir de laquelle nous fabriquerons divers produits dans un deuxième atelier: pommades\, sirop\, déodorant\, gel douche\, … Nous travaillons uniquement avec des produits naturels\, sans conservateurs et exclusivement sur un feu ouvert. \nApportez: petits bocaux à conserves \n15.5.+26.6. \n10:00-15:00 et 10:00-14:00 \nBeaufort \n80 € \nVeuillez vous inscrire à: info@naturpark-mellerdall.lu ou 26 87 82 91
URL:https://www.naturpark-mellerdall.lu/fr/event/kraeuterwerkstatt/
LOCATION:Beaufort\, Beaufort\, Luxemburg
CATEGORIES:Kultur,Natur,Region
ATTACH;FMTTYPE=image/jpeg:https://www.naturpark-mellerdall.lu/wp-content/uploads/2020/09/KraiderateliercAnnickFeipel.jpg
END:VEVENT
END:VCALENDAR