BEGIN:VCALENDAR
VERSION:2.0
PRODID:-//Natur- &amp; Geopark Mëllerdall - ECPv5.5.0//NONSGML v1.0//EN
CALSCALE:GREGORIAN
METHOD:PUBLISH
X-WR-CALNAME:Natur- &amp; Geopark Mëllerdall
X-ORIGINAL-URL:https://www.naturpark-mellerdall.lu/fr/
X-WR-CALDESC:évènements pour Natur- &amp; Geopark Mëllerdall
BEGIN:VTIMEZONE
TZID:Europe/Luxembourg
BEGIN:DAYLIGHT
TZOFFSETFROM:+0100
TZOFFSETTO:+0200
TZNAME:CEST
DTSTART:20210328T010000
END:DAYLIGHT
BEGIN:STANDARD
TZOFFSETFROM:+0200
TZOFFSETTO:+0100
TZNAME:CET
DTSTART:20211031T010000
END:STANDARD
END:VTIMEZONE
BEGIN:VEVENT
DTSTART;TZID=Europe/Luxembourg:20210604T090000
DTEND;TZID=Europe/Luxembourg:20210604T170000
DTSTAMP:20210423T181519
CREATED:20200928T152029Z
LAST-MODIFIED:20210329T080012Z
UID:7582-1622797200-1622826000@www.naturpark-mellerdall.lu
SUMMARY:ANNULE! Niveau avancé: Tournage en bois
DESCRIPTION:Pour participer à ce cours\, vous devez avoir suivi l’un des cours de base. S’appuyant sur les connaissances de base\, le menuisier Robi Baden vous montre plein de trucs et astuces pour travailler avec le tour. \nÀ partir de 18 ans \n4.6. \n9:00-17:00 \nWaldbillig \n270 € \nVeuillez vous inscrire à: info@naturpark-mellerdall.lu ou 26 87 82 91 \nVous trouverez plus d’informations sur les cours de base obligatoires ici: \nCours de base: tourner du bois (pour femmes) \nCours de base: tourner du bois
URL:https://www.naturpark-mellerdall.lu/fr/event/aufbaukurs-drechseln/
LOCATION:Waldbillig\, Waldbillig\, Luxemburg
CATEGORIES:Kultur,Region
ATTACH;FMTTYPE=image/jpeg:https://www.naturpark-mellerdall.lu/wp-content/uploads/2020/09/DrechselnForgeschrittencRobiBaden-scaled.jpg
ORGANIZER;CN="Natur-%20%26%20Geopark%20M%C3%ABllerdall":MAILTO:info@naturpark-mellerdall.lu
END:VEVENT
END:VCALENDAR